BEGIN:VCALENDAR
VERSION:2.0
PRODID:-//FORTE – WELL BEING - ECPv6.15.18//NONSGML v1.0//EN
CALSCALE:GREGORIAN
METHOD:PUBLISH
X-ORIGINAL-URL:https://forte-wellbeing.com
X-WR-CALDESC:Events for FORTE – WELL BEING
REFRESH-INTERVAL;VALUE=DURATION:PT1H
X-Robots-Tag:noindex
X-PUBLISHED-TTL:PT1H
BEGIN:VTIMEZONE
TZID:America/Phoenix
BEGIN:STANDARD
TZOFFSETFROM:-0700
TZOFFSETTO:-0700
TZNAME:MST
DTSTART:20260101T000000
END:STANDARD
END:VTIMEZONE
BEGIN:VEVENT
DTSTART;TZID=America/Phoenix:20271112T090000
DTEND;TZID=America/Phoenix:20271112T093000
DTSTAMP:20260423T014508
CREATED:20250501T170539Z
LAST-MODIFIED:20250501T170540Z
UID:10002450-1826010000-1826011800@forte-wellbeing.com
SUMMARY:Forte Program Member Movement Class
DESCRIPTION:For members of our lifestyle program\, Jodi leads a weekly exercise class and routine.  Reach out to us to learn more.
URL:https://forte-wellbeing.com/activities/forte-program-member-movement-class-2/2027-11-12/
LOCATION:Virtual
CATEGORIES:Movement Classes
ATTACH;FMTTYPE=image/jpeg:https://forte-wellbeing.com/wp-content/uploads/2021/04/2-older-women-in-studio52553797-1-300x200-1.jpg
ORGANIZER;CN="Forte - Well Being":MAILTO:info@forte-wellbeing.com
END:VEVENT
BEGIN:VEVENT
DTSTART;TZID=America/Phoenix:20271114T080000
DTEND;TZID=America/Phoenix:20271114T083000
DTSTAMP:20260423T014508
CREATED:20250306T184823Z
LAST-MODIFIED:20251111T181348Z
UID:10000886-1826179200-1826181000@forte-wellbeing.com
SUMMARY:Mild Stretch Yoga: Chair & Floor Options
DESCRIPTION:Join us for a great start to your week by joining us for a virtual gentle stretch and core building yoga class on Sundays at 8am- This virtual class is a great introduction if you are new to any kind of movement or a staple if you are a veteran.  We also provide modification options for those in a chair or with injuries. \nWe look forward to seeing you!
URL:https://forte-wellbeing.com/activities/events-yoga-2/2027-11-14/
CATEGORIES:Classes,Yoga Classes
ATTACH;FMTTYPE=image/png:https://forte-wellbeing.com/wp-content/uploads/2023/10/Forte-Yoga-Class.png
LOCATION:https://us02web.zoom.us/j/89976519189
END:VEVENT
BEGIN:VEVENT
DTSTART;TZID=America/Phoenix:20271119T090000
DTEND;TZID=America/Phoenix:20271119T093000
DTSTAMP:20260423T014508
CREATED:20250501T170539Z
LAST-MODIFIED:20250501T170540Z
UID:10002451-1826614800-1826616600@forte-wellbeing.com
SUMMARY:Forte Program Member Movement Class
DESCRIPTION:For members of our lifestyle program\, Jodi leads a weekly exercise class and routine.  Reach out to us to learn more.
URL:https://forte-wellbeing.com/activities/forte-program-member-movement-class-2/2027-11-19/
LOCATION:Virtual
CATEGORIES:Movement Classes
ATTACH;FMTTYPE=image/jpeg:https://forte-wellbeing.com/wp-content/uploads/2021/04/2-older-women-in-studio52553797-1-300x200-1.jpg
ORGANIZER;CN="Forte - Well Being":MAILTO:info@forte-wellbeing.com
END:VEVENT
BEGIN:VEVENT
DTSTART;TZID=America/Phoenix:20271121T080000
DTEND;TZID=America/Phoenix:20271121T083000
DTSTAMP:20260423T014508
CREATED:20250306T184823Z
LAST-MODIFIED:20251111T181348Z
UID:10000887-1826784000-1826785800@forte-wellbeing.com
SUMMARY:Mild Stretch Yoga: Chair & Floor Options
DESCRIPTION:Join us for a great start to your week by joining us for a virtual gentle stretch and core building yoga class on Sundays at 8am- This virtual class is a great introduction if you are new to any kind of movement or a staple if you are a veteran.  We also provide modification options for those in a chair or with injuries. \nWe look forward to seeing you!
URL:https://forte-wellbeing.com/activities/events-yoga-2/2027-11-21/
CATEGORIES:Classes,Yoga Classes
ATTACH;FMTTYPE=image/png:https://forte-wellbeing.com/wp-content/uploads/2023/10/Forte-Yoga-Class.png
LOCATION:https://us02web.zoom.us/j/89976519189
END:VEVENT
BEGIN:VEVENT
DTSTART;TZID=America/Phoenix:20271126T090000
DTEND;TZID=America/Phoenix:20271126T093000
DTSTAMP:20260423T014508
CREATED:20250501T170539Z
LAST-MODIFIED:20250501T170540Z
UID:10002452-1827219600-1827221400@forte-wellbeing.com
SUMMARY:Forte Program Member Movement Class
DESCRIPTION:For members of our lifestyle program\, Jodi leads a weekly exercise class and routine.  Reach out to us to learn more.
URL:https://forte-wellbeing.com/activities/forte-program-member-movement-class-2/2027-11-26/
LOCATION:Virtual
CATEGORIES:Movement Classes
ATTACH;FMTTYPE=image/jpeg:https://forte-wellbeing.com/wp-content/uploads/2021/04/2-older-women-in-studio52553797-1-300x200-1.jpg
ORGANIZER;CN="Forte - Well Being":MAILTO:info@forte-wellbeing.com
END:VEVENT
BEGIN:VEVENT
DTSTART;TZID=America/Phoenix:20271128T080000
DTEND;TZID=America/Phoenix:20271128T083000
DTSTAMP:20260423T014508
CREATED:20250306T184823Z
LAST-MODIFIED:20251111T181348Z
UID:10000888-1827388800-1827390600@forte-wellbeing.com
SUMMARY:Mild Stretch Yoga: Chair & Floor Options
DESCRIPTION:Join us for a great start to your week by joining us for a virtual gentle stretch and core building yoga class on Sundays at 8am- This virtual class is a great introduction if you are new to any kind of movement or a staple if you are a veteran.  We also provide modification options for those in a chair or with injuries. \nWe look forward to seeing you!
URL:https://forte-wellbeing.com/activities/events-yoga-2/2027-11-28/
CATEGORIES:Classes,Yoga Classes
ATTACH;FMTTYPE=image/png:https://forte-wellbeing.com/wp-content/uploads/2023/10/Forte-Yoga-Class.png
LOCATION:https://us02web.zoom.us/j/89976519189
END:VEVENT
BEGIN:VEVENT
DTSTART;TZID=America/Phoenix:20271203T090000
DTEND;TZID=America/Phoenix:20271203T093000
DTSTAMP:20260423T014508
CREATED:20250501T170539Z
LAST-MODIFIED:20250501T170540Z
UID:10002453-1827824400-1827826200@forte-wellbeing.com
SUMMARY:Forte Program Member Movement Class
DESCRIPTION:For members of our lifestyle program\, Jodi leads a weekly exercise class and routine.  Reach out to us to learn more.
URL:https://forte-wellbeing.com/activities/forte-program-member-movement-class-2/2027-12-03/
LOCATION:Virtual
CATEGORIES:Movement Classes
ATTACH;FMTTYPE=image/jpeg:https://forte-wellbeing.com/wp-content/uploads/2021/04/2-older-women-in-studio52553797-1-300x200-1.jpg
ORGANIZER;CN="Forte - Well Being":MAILTO:info@forte-wellbeing.com
END:VEVENT
BEGIN:VEVENT
DTSTART;TZID=America/Phoenix:20271205T080000
DTEND;TZID=America/Phoenix:20271205T083000
DTSTAMP:20260423T014508
CREATED:20250306T184823Z
LAST-MODIFIED:20251111T181348Z
UID:10000889-1827993600-1827995400@forte-wellbeing.com
SUMMARY:Mild Stretch Yoga: Chair & Floor Options
DESCRIPTION:Join us for a great start to your week by joining us for a virtual gentle stretch and core building yoga class on Sundays at 8am- This virtual class is a great introduction if you are new to any kind of movement or a staple if you are a veteran.  We also provide modification options for those in a chair or with injuries. \nWe look forward to seeing you!
URL:https://forte-wellbeing.com/activities/events-yoga-2/2027-12-05/
CATEGORIES:Classes,Yoga Classes
ATTACH;FMTTYPE=image/png:https://forte-wellbeing.com/wp-content/uploads/2023/10/Forte-Yoga-Class.png
LOCATION:https://us02web.zoom.us/j/89976519189
END:VEVENT
BEGIN:VEVENT
DTSTART;TZID=America/Phoenix:20271210T090000
DTEND;TZID=America/Phoenix:20271210T093000
DTSTAMP:20260423T014508
CREATED:20250501T170539Z
LAST-MODIFIED:20250501T170540Z
UID:10002454-1828429200-1828431000@forte-wellbeing.com
SUMMARY:Forte Program Member Movement Class
DESCRIPTION:For members of our lifestyle program\, Jodi leads a weekly exercise class and routine.  Reach out to us to learn more.
URL:https://forte-wellbeing.com/activities/forte-program-member-movement-class-2/2027-12-10/
LOCATION:Virtual
CATEGORIES:Movement Classes
ATTACH;FMTTYPE=image/jpeg:https://forte-wellbeing.com/wp-content/uploads/2021/04/2-older-women-in-studio52553797-1-300x200-1.jpg
ORGANIZER;CN="Forte - Well Being":MAILTO:info@forte-wellbeing.com
END:VEVENT
BEGIN:VEVENT
DTSTART;TZID=America/Phoenix:20271212T080000
DTEND;TZID=America/Phoenix:20271212T083000
DTSTAMP:20260423T014508
CREATED:20250306T184823Z
LAST-MODIFIED:20251111T181348Z
UID:10000890-1828598400-1828600200@forte-wellbeing.com
SUMMARY:Mild Stretch Yoga: Chair & Floor Options
DESCRIPTION:Join us for a great start to your week by joining us for a virtual gentle stretch and core building yoga class on Sundays at 8am- This virtual class is a great introduction if you are new to any kind of movement or a staple if you are a veteran.  We also provide modification options for those in a chair or with injuries. \nWe look forward to seeing you!
URL:https://forte-wellbeing.com/activities/events-yoga-2/2027-12-12/
CATEGORIES:Classes,Yoga Classes
ATTACH;FMTTYPE=image/png:https://forte-wellbeing.com/wp-content/uploads/2023/10/Forte-Yoga-Class.png
LOCATION:https://us02web.zoom.us/j/89976519189
END:VEVENT
BEGIN:VEVENT
DTSTART;TZID=America/Phoenix:20271217T090000
DTEND;TZID=America/Phoenix:20271217T093000
DTSTAMP:20260423T014509
CREATED:20250501T170539Z
LAST-MODIFIED:20250501T170540Z
UID:10002455-1829034000-1829035800@forte-wellbeing.com
SUMMARY:Forte Program Member Movement Class
DESCRIPTION:For members of our lifestyle program\, Jodi leads a weekly exercise class and routine.  Reach out to us to learn more.
URL:https://forte-wellbeing.com/activities/forte-program-member-movement-class-2/2027-12-17/
LOCATION:Virtual
CATEGORIES:Movement Classes
ATTACH;FMTTYPE=image/jpeg:https://forte-wellbeing.com/wp-content/uploads/2021/04/2-older-women-in-studio52553797-1-300x200-1.jpg
ORGANIZER;CN="Forte - Well Being":MAILTO:info@forte-wellbeing.com
END:VEVENT
BEGIN:VEVENT
DTSTART;TZID=America/Phoenix:20271219T080000
DTEND;TZID=America/Phoenix:20271219T083000
DTSTAMP:20260423T014509
CREATED:20250306T184823Z
LAST-MODIFIED:20251111T181348Z
UID:10000891-1829203200-1829205000@forte-wellbeing.com
SUMMARY:Mild Stretch Yoga: Chair & Floor Options
DESCRIPTION:Join us for a great start to your week by joining us for a virtual gentle stretch and core building yoga class on Sundays at 8am- This virtual class is a great introduction if you are new to any kind of movement or a staple if you are a veteran.  We also provide modification options for those in a chair or with injuries. \nWe look forward to seeing you!
URL:https://forte-wellbeing.com/activities/events-yoga-2/2027-12-19/
CATEGORIES:Classes,Yoga Classes
ATTACH;FMTTYPE=image/png:https://forte-wellbeing.com/wp-content/uploads/2023/10/Forte-Yoga-Class.png
LOCATION:https://us02web.zoom.us/j/89976519189
END:VEVENT
BEGIN:VEVENT
DTSTART;TZID=America/Phoenix:20271224T090000
DTEND;TZID=America/Phoenix:20271224T093000
DTSTAMP:20260423T014509
CREATED:20250501T170539Z
LAST-MODIFIED:20250501T170540Z
UID:10002456-1829638800-1829640600@forte-wellbeing.com
SUMMARY:Forte Program Member Movement Class
DESCRIPTION:For members of our lifestyle program\, Jodi leads a weekly exercise class and routine.  Reach out to us to learn more.
URL:https://forte-wellbeing.com/activities/forte-program-member-movement-class-2/2027-12-24/
LOCATION:Virtual
CATEGORIES:Movement Classes
ATTACH;FMTTYPE=image/jpeg:https://forte-wellbeing.com/wp-content/uploads/2021/04/2-older-women-in-studio52553797-1-300x200-1.jpg
ORGANIZER;CN="Forte - Well Being":MAILTO:info@forte-wellbeing.com
END:VEVENT
BEGIN:VEVENT
DTSTART;TZID=America/Phoenix:20271226T080000
DTEND;TZID=America/Phoenix:20271226T083000
DTSTAMP:20260423T014509
CREATED:20250306T184823Z
LAST-MODIFIED:20251111T181348Z
UID:10000892-1829808000-1829809800@forte-wellbeing.com
SUMMARY:Mild Stretch Yoga: Chair & Floor Options
DESCRIPTION:Join us for a great start to your week by joining us for a virtual gentle stretch and core building yoga class on Sundays at 8am- This virtual class is a great introduction if you are new to any kind of movement or a staple if you are a veteran.  We also provide modification options for those in a chair or with injuries. \nWe look forward to seeing you!
URL:https://forte-wellbeing.com/activities/events-yoga-2/2027-12-26/
CATEGORIES:Classes,Yoga Classes
ATTACH;FMTTYPE=image/png:https://forte-wellbeing.com/wp-content/uploads/2023/10/Forte-Yoga-Class.png
LOCATION:https://us02web.zoom.us/j/89976519189
END:VEVENT
BEGIN:VEVENT
DTSTART;TZID=America/Phoenix:20271231T090000
DTEND;TZID=America/Phoenix:20271231T093000
DTSTAMP:20260423T014509
CREATED:20250501T170539Z
LAST-MODIFIED:20250501T170540Z
UID:10002457-1830243600-1830245400@forte-wellbeing.com
SUMMARY:Forte Program Member Movement Class
DESCRIPTION:For members of our lifestyle program\, Jodi leads a weekly exercise class and routine.  Reach out to us to learn more.
URL:https://forte-wellbeing.com/activities/forte-program-member-movement-class-2/2027-12-31/
LOCATION:Virtual
CATEGORIES:Movement Classes
ATTACH;FMTTYPE=image/jpeg:https://forte-wellbeing.com/wp-content/uploads/2021/04/2-older-women-in-studio52553797-1-300x200-1.jpg
ORGANIZER;CN="Forte - Well Being":MAILTO:info@forte-wellbeing.com
END:VEVENT
BEGIN:VEVENT
DTSTART;TZID=America/Phoenix:20280102T080000
DTEND;TZID=America/Phoenix:20280102T083000
DTSTAMP:20260423T014509
CREATED:20250306T184823Z
LAST-MODIFIED:20251111T181348Z
UID:10000893-1830412800-1830414600@forte-wellbeing.com
SUMMARY:Mild Stretch Yoga: Chair & Floor Options
DESCRIPTION:Join us for a great start to your week by joining us for a virtual gentle stretch and core building yoga class on Sundays at 8am- This virtual class is a great introduction if you are new to any kind of movement or a staple if you are a veteran.  We also provide modification options for those in a chair or with injuries. \nWe look forward to seeing you!
URL:https://forte-wellbeing.com/activities/events-yoga-2/2028-01-02/
CATEGORIES:Classes,Yoga Classes
ATTACH;FMTTYPE=image/png:https://forte-wellbeing.com/wp-content/uploads/2023/10/Forte-Yoga-Class.png
LOCATION:https://us02web.zoom.us/j/89976519189
END:VEVENT
BEGIN:VEVENT
DTSTART;TZID=America/Phoenix:20280107T090000
DTEND;TZID=America/Phoenix:20280107T093000
DTSTAMP:20260423T014509
CREATED:20250501T170539Z
LAST-MODIFIED:20250501T170540Z
UID:10002458-1830848400-1830850200@forte-wellbeing.com
SUMMARY:Forte Program Member Movement Class
DESCRIPTION:For members of our lifestyle program\, Jodi leads a weekly exercise class and routine.  Reach out to us to learn more.
URL:https://forte-wellbeing.com/activities/forte-program-member-movement-class-2/2028-01-07/
LOCATION:Virtual
CATEGORIES:Movement Classes
ATTACH;FMTTYPE=image/jpeg:https://forte-wellbeing.com/wp-content/uploads/2021/04/2-older-women-in-studio52553797-1-300x200-1.jpg
ORGANIZER;CN="Forte - Well Being":MAILTO:info@forte-wellbeing.com
END:VEVENT
BEGIN:VEVENT
DTSTART;TZID=America/Phoenix:20280109T080000
DTEND;TZID=America/Phoenix:20280109T083000
DTSTAMP:20260423T014509
CREATED:20250306T184823Z
LAST-MODIFIED:20251111T181348Z
UID:10000894-1831017600-1831019400@forte-wellbeing.com
SUMMARY:Mild Stretch Yoga: Chair & Floor Options
DESCRIPTION:Join us for a great start to your week by joining us for a virtual gentle stretch and core building yoga class on Sundays at 8am- This virtual class is a great introduction if you are new to any kind of movement or a staple if you are a veteran.  We also provide modification options for those in a chair or with injuries. \nWe look forward to seeing you!
URL:https://forte-wellbeing.com/activities/events-yoga-2/2028-01-09/
CATEGORIES:Classes,Yoga Classes
ATTACH;FMTTYPE=image/png:https://forte-wellbeing.com/wp-content/uploads/2023/10/Forte-Yoga-Class.png
LOCATION:https://us02web.zoom.us/j/89976519189
END:VEVENT
BEGIN:VEVENT
DTSTART;TZID=America/Phoenix:20280114T090000
DTEND;TZID=America/Phoenix:20280114T093000
DTSTAMP:20260423T014509
CREATED:20250501T170539Z
LAST-MODIFIED:20250501T170540Z
UID:10002459-1831453200-1831455000@forte-wellbeing.com
SUMMARY:Forte Program Member Movement Class
DESCRIPTION:For members of our lifestyle program\, Jodi leads a weekly exercise class and routine.  Reach out to us to learn more.
URL:https://forte-wellbeing.com/activities/forte-program-member-movement-class-2/2028-01-14/
LOCATION:Virtual
CATEGORIES:Movement Classes
ATTACH;FMTTYPE=image/jpeg:https://forte-wellbeing.com/wp-content/uploads/2021/04/2-older-women-in-studio52553797-1-300x200-1.jpg
ORGANIZER;CN="Forte - Well Being":MAILTO:info@forte-wellbeing.com
END:VEVENT
BEGIN:VEVENT
DTSTART;TZID=America/Phoenix:20280116T080000
DTEND;TZID=America/Phoenix:20280116T083000
DTSTAMP:20260423T014509
CREATED:20250306T184823Z
LAST-MODIFIED:20251111T181348Z
UID:10000895-1831622400-1831624200@forte-wellbeing.com
SUMMARY:Mild Stretch Yoga: Chair & Floor Options
DESCRIPTION:Join us for a great start to your week by joining us for a virtual gentle stretch and core building yoga class on Sundays at 8am- This virtual class is a great introduction if you are new to any kind of movement or a staple if you are a veteran.  We also provide modification options for those in a chair or with injuries. \nWe look forward to seeing you!
URL:https://forte-wellbeing.com/activities/events-yoga-2/2028-01-16/
CATEGORIES:Classes,Yoga Classes
ATTACH;FMTTYPE=image/png:https://forte-wellbeing.com/wp-content/uploads/2023/10/Forte-Yoga-Class.png
LOCATION:https://us02web.zoom.us/j/89976519189
END:VEVENT
BEGIN:VEVENT
DTSTART;TZID=America/Phoenix:20280121T090000
DTEND;TZID=America/Phoenix:20280121T093000
DTSTAMP:20260423T014509
CREATED:20250501T170539Z
LAST-MODIFIED:20250501T170540Z
UID:10002460-1832058000-1832059800@forte-wellbeing.com
SUMMARY:Forte Program Member Movement Class
DESCRIPTION:For members of our lifestyle program\, Jodi leads a weekly exercise class and routine.  Reach out to us to learn more.
URL:https://forte-wellbeing.com/activities/forte-program-member-movement-class-2/2028-01-21/
LOCATION:Virtual
CATEGORIES:Movement Classes
ATTACH;FMTTYPE=image/jpeg:https://forte-wellbeing.com/wp-content/uploads/2021/04/2-older-women-in-studio52553797-1-300x200-1.jpg
ORGANIZER;CN="Forte - Well Being":MAILTO:info@forte-wellbeing.com
END:VEVENT
BEGIN:VEVENT
DTSTART;TZID=America/Phoenix:20280123T080000
DTEND;TZID=America/Phoenix:20280123T083000
DTSTAMP:20260423T014509
CREATED:20250306T184823Z
LAST-MODIFIED:20251111T181348Z
UID:10000896-1832227200-1832229000@forte-wellbeing.com
SUMMARY:Mild Stretch Yoga: Chair & Floor Options
DESCRIPTION:Join us for a great start to your week by joining us for a virtual gentle stretch and core building yoga class on Sundays at 8am- This virtual class is a great introduction if you are new to any kind of movement or a staple if you are a veteran.  We also provide modification options for those in a chair or with injuries. \nWe look forward to seeing you!
URL:https://forte-wellbeing.com/activities/events-yoga-2/2028-01-23/
CATEGORIES:Classes,Yoga Classes
ATTACH;FMTTYPE=image/png:https://forte-wellbeing.com/wp-content/uploads/2023/10/Forte-Yoga-Class.png
LOCATION:https://us02web.zoom.us/j/89976519189
END:VEVENT
BEGIN:VEVENT
DTSTART;TZID=America/Phoenix:20280128T090000
DTEND;TZID=America/Phoenix:20280128T093000
DTSTAMP:20260423T014509
CREATED:20250501T170539Z
LAST-MODIFIED:20250501T170540Z
UID:10002461-1832662800-1832664600@forte-wellbeing.com
SUMMARY:Forte Program Member Movement Class
DESCRIPTION:For members of our lifestyle program\, Jodi leads a weekly exercise class and routine.  Reach out to us to learn more.
URL:https://forte-wellbeing.com/activities/forte-program-member-movement-class-2/2028-01-28/
LOCATION:Virtual
CATEGORIES:Movement Classes
ATTACH;FMTTYPE=image/jpeg:https://forte-wellbeing.com/wp-content/uploads/2021/04/2-older-women-in-studio52553797-1-300x200-1.jpg
ORGANIZER;CN="Forte - Well Being":MAILTO:info@forte-wellbeing.com
END:VEVENT
BEGIN:VEVENT
DTSTART;TZID=America/Phoenix:20280130T080000
DTEND;TZID=America/Phoenix:20280130T083000
DTSTAMP:20260423T014509
CREATED:20250306T184823Z
LAST-MODIFIED:20251111T181348Z
UID:10000897-1832832000-1832833800@forte-wellbeing.com
SUMMARY:Mild Stretch Yoga: Chair & Floor Options
DESCRIPTION:Join us for a great start to your week by joining us for a virtual gentle stretch and core building yoga class on Sundays at 8am- This virtual class is a great introduction if you are new to any kind of movement or a staple if you are a veteran.  We also provide modification options for those in a chair or with injuries. \nWe look forward to seeing you!
URL:https://forte-wellbeing.com/activities/events-yoga-2/2028-01-30/
CATEGORIES:Classes,Yoga Classes
ATTACH;FMTTYPE=image/png:https://forte-wellbeing.com/wp-content/uploads/2023/10/Forte-Yoga-Class.png
LOCATION:https://us02web.zoom.us/j/89976519189
END:VEVENT
BEGIN:VEVENT
DTSTART;TZID=America/Phoenix:20280204T090000
DTEND;TZID=America/Phoenix:20280204T093000
DTSTAMP:20260423T014509
CREATED:20250501T170539Z
LAST-MODIFIED:20250501T170540Z
UID:10002462-1833267600-1833269400@forte-wellbeing.com
SUMMARY:Forte Program Member Movement Class
DESCRIPTION:For members of our lifestyle program\, Jodi leads a weekly exercise class and routine.  Reach out to us to learn more.
URL:https://forte-wellbeing.com/activities/forte-program-member-movement-class-2/2028-02-04/
LOCATION:Virtual
CATEGORIES:Movement Classes
ATTACH;FMTTYPE=image/jpeg:https://forte-wellbeing.com/wp-content/uploads/2021/04/2-older-women-in-studio52553797-1-300x200-1.jpg
ORGANIZER;CN="Forte - Well Being":MAILTO:info@forte-wellbeing.com
END:VEVENT
BEGIN:VEVENT
DTSTART;TZID=America/Phoenix:20280206T080000
DTEND;TZID=America/Phoenix:20280206T083000
DTSTAMP:20260423T014509
CREATED:20250306T184823Z
LAST-MODIFIED:20251111T181348Z
UID:10000898-1833436800-1833438600@forte-wellbeing.com
SUMMARY:Mild Stretch Yoga: Chair & Floor Options
DESCRIPTION:Join us for a great start to your week by joining us for a virtual gentle stretch and core building yoga class on Sundays at 8am- This virtual class is a great introduction if you are new to any kind of movement or a staple if you are a veteran.  We also provide modification options for those in a chair or with injuries. \nWe look forward to seeing you!
URL:https://forte-wellbeing.com/activities/events-yoga-2/2028-02-06/
CATEGORIES:Classes,Yoga Classes
ATTACH;FMTTYPE=image/png:https://forte-wellbeing.com/wp-content/uploads/2023/10/Forte-Yoga-Class.png
LOCATION:https://us02web.zoom.us/j/89976519189
END:VEVENT
BEGIN:VEVENT
DTSTART;TZID=America/Phoenix:20280211T090000
DTEND;TZID=America/Phoenix:20280211T093000
DTSTAMP:20260423T014509
CREATED:20250501T170539Z
LAST-MODIFIED:20250501T170540Z
UID:10002463-1833872400-1833874200@forte-wellbeing.com
SUMMARY:Forte Program Member Movement Class
DESCRIPTION:For members of our lifestyle program\, Jodi leads a weekly exercise class and routine.  Reach out to us to learn more.
URL:https://forte-wellbeing.com/activities/forte-program-member-movement-class-2/2028-02-11/
LOCATION:Virtual
CATEGORIES:Movement Classes
ATTACH;FMTTYPE=image/jpeg:https://forte-wellbeing.com/wp-content/uploads/2021/04/2-older-women-in-studio52553797-1-300x200-1.jpg
ORGANIZER;CN="Forte - Well Being":MAILTO:info@forte-wellbeing.com
END:VEVENT
BEGIN:VEVENT
DTSTART;TZID=America/Phoenix:20280213T080000
DTEND;TZID=America/Phoenix:20280213T083000
DTSTAMP:20260423T014509
CREATED:20250306T184823Z
LAST-MODIFIED:20251111T181348Z
UID:10000899-1834041600-1834043400@forte-wellbeing.com
SUMMARY:Mild Stretch Yoga: Chair & Floor Options
DESCRIPTION:Join us for a great start to your week by joining us for a virtual gentle stretch and core building yoga class on Sundays at 8am- This virtual class is a great introduction if you are new to any kind of movement or a staple if you are a veteran.  We also provide modification options for those in a chair or with injuries. \nWe look forward to seeing you!
URL:https://forte-wellbeing.com/activities/events-yoga-2/2028-02-13/
CATEGORIES:Classes,Yoga Classes
ATTACH;FMTTYPE=image/png:https://forte-wellbeing.com/wp-content/uploads/2023/10/Forte-Yoga-Class.png
LOCATION:https://us02web.zoom.us/j/89976519189
END:VEVENT
BEGIN:VEVENT
DTSTART;TZID=America/Phoenix:20280218T090000
DTEND;TZID=America/Phoenix:20280218T093000
DTSTAMP:20260423T014509
CREATED:20250501T170539Z
LAST-MODIFIED:20250501T170540Z
UID:10002464-1834477200-1834479000@forte-wellbeing.com
SUMMARY:Forte Program Member Movement Class
DESCRIPTION:For members of our lifestyle program\, Jodi leads a weekly exercise class and routine.  Reach out to us to learn more.
URL:https://forte-wellbeing.com/activities/forte-program-member-movement-class-2/2028-02-18/
LOCATION:Virtual
CATEGORIES:Movement Classes
ATTACH;FMTTYPE=image/jpeg:https://forte-wellbeing.com/wp-content/uploads/2021/04/2-older-women-in-studio52553797-1-300x200-1.jpg
ORGANIZER;CN="Forte - Well Being":MAILTO:info@forte-wellbeing.com
END:VEVENT
BEGIN:VEVENT
DTSTART;TZID=America/Phoenix:20280220T080000
DTEND;TZID=America/Phoenix:20280220T083000
DTSTAMP:20260423T014509
CREATED:20250306T184823Z
LAST-MODIFIED:20251111T181348Z
UID:10000900-1834646400-1834648200@forte-wellbeing.com
SUMMARY:Mild Stretch Yoga: Chair & Floor Options
DESCRIPTION:Join us for a great start to your week by joining us for a virtual gentle stretch and core building yoga class on Sundays at 8am- This virtual class is a great introduction if you are new to any kind of movement or a staple if you are a veteran.  We also provide modification options for those in a chair or with injuries. \nWe look forward to seeing you!
URL:https://forte-wellbeing.com/activities/events-yoga-2/2028-02-20/
CATEGORIES:Classes,Yoga Classes
ATTACH;FMTTYPE=image/png:https://forte-wellbeing.com/wp-content/uploads/2023/10/Forte-Yoga-Class.png
LOCATION:https://us02web.zoom.us/j/89976519189
END:VEVENT
END:VCALENDAR