BEGIN:VCALENDAR
VERSION:2.0
PRODID:-//FORTE – WELL BEING - ECPv6.15.18//NONSGML v1.0//EN
CALSCALE:GREGORIAN
METHOD:PUBLISH
X-ORIGINAL-URL:https://forte-wellbeing.com
X-WR-CALDESC:Events for FORTE – WELL BEING
REFRESH-INTERVAL;VALUE=DURATION:PT1H
X-Robots-Tag:noindex
X-PUBLISHED-TTL:PT1H
BEGIN:VTIMEZONE
TZID:America/Phoenix
BEGIN:STANDARD
TZOFFSETFROM:-0700
TZOFFSETTO:-0700
TZNAME:MST
DTSTART:20280101T000000
END:STANDARD
END:VTIMEZONE
BEGIN:VEVENT
DTSTART;TZID=America/Phoenix:20290128T080000
DTEND;TZID=America/Phoenix:20290128T083000
DTSTAMP:20260419T224441
CREATED:20250306T184823Z
LAST-MODIFIED:20251111T181348Z
UID:10000949-1864281600-1864283400@forte-wellbeing.com
SUMMARY:Mild Stretch Yoga: Chair & Floor Options
DESCRIPTION:Join us for a great start to your week by joining us for a virtual gentle stretch and core building yoga class on Sundays at 8am- This virtual class is a great introduction if you are new to any kind of movement or a staple if you are a veteran.  We also provide modification options for those in a chair or with injuries. \nWe look forward to seeing you!
URL:https://forte-wellbeing.com/activities/events-yoga-2/2029-01-28/
CATEGORIES:Classes,Yoga Classes
ATTACH;FMTTYPE=image/png:https://forte-wellbeing.com/wp-content/uploads/2023/10/Forte-Yoga-Class.png
LOCATION:https://us02web.zoom.us/j/89976519189
END:VEVENT
BEGIN:VEVENT
DTSTART;TZID=America/Phoenix:20290204T080000
DTEND;TZID=America/Phoenix:20290204T083000
DTSTAMP:20260419T224441
CREATED:20250306T184823Z
LAST-MODIFIED:20251111T181348Z
UID:10000950-1864886400-1864888200@forte-wellbeing.com
SUMMARY:Mild Stretch Yoga: Chair & Floor Options
DESCRIPTION:Join us for a great start to your week by joining us for a virtual gentle stretch and core building yoga class on Sundays at 8am- This virtual class is a great introduction if you are new to any kind of movement or a staple if you are a veteran.  We also provide modification options for those in a chair or with injuries. \nWe look forward to seeing you!
URL:https://forte-wellbeing.com/activities/events-yoga-2/2029-02-04/
CATEGORIES:Classes,Yoga Classes
ATTACH;FMTTYPE=image/png:https://forte-wellbeing.com/wp-content/uploads/2023/10/Forte-Yoga-Class.png
LOCATION:https://us02web.zoom.us/j/89976519189
END:VEVENT
BEGIN:VEVENT
DTSTART;TZID=America/Phoenix:20290211T080000
DTEND;TZID=America/Phoenix:20290211T083000
DTSTAMP:20260419T224441
CREATED:20250306T184823Z
LAST-MODIFIED:20251111T181348Z
UID:10000951-1865491200-1865493000@forte-wellbeing.com
SUMMARY:Mild Stretch Yoga: Chair & Floor Options
DESCRIPTION:Join us for a great start to your week by joining us for a virtual gentle stretch and core building yoga class on Sundays at 8am- This virtual class is a great introduction if you are new to any kind of movement or a staple if you are a veteran.  We also provide modification options for those in a chair or with injuries. \nWe look forward to seeing you!
URL:https://forte-wellbeing.com/activities/events-yoga-2/2029-02-11/
CATEGORIES:Classes,Yoga Classes
ATTACH;FMTTYPE=image/png:https://forte-wellbeing.com/wp-content/uploads/2023/10/Forte-Yoga-Class.png
LOCATION:https://us02web.zoom.us/j/89976519189
END:VEVENT
BEGIN:VEVENT
DTSTART;TZID=America/Phoenix:20290218T080000
DTEND;TZID=America/Phoenix:20290218T083000
DTSTAMP:20260419T224441
CREATED:20250306T184823Z
LAST-MODIFIED:20251111T181348Z
UID:10000952-1866096000-1866097800@forte-wellbeing.com
SUMMARY:Mild Stretch Yoga: Chair & Floor Options
DESCRIPTION:Join us for a great start to your week by joining us for a virtual gentle stretch and core building yoga class on Sundays at 8am- This virtual class is a great introduction if you are new to any kind of movement or a staple if you are a veteran.  We also provide modification options for those in a chair or with injuries. \nWe look forward to seeing you!
URL:https://forte-wellbeing.com/activities/events-yoga-2/2029-02-18/
CATEGORIES:Classes,Yoga Classes
ATTACH;FMTTYPE=image/png:https://forte-wellbeing.com/wp-content/uploads/2023/10/Forte-Yoga-Class.png
LOCATION:https://us02web.zoom.us/j/89976519189
END:VEVENT
BEGIN:VEVENT
DTSTART;TZID=America/Phoenix:20290225T080000
DTEND;TZID=America/Phoenix:20290225T083000
DTSTAMP:20260419T224441
CREATED:20250306T184823Z
LAST-MODIFIED:20251111T181348Z
UID:10000953-1866700800-1866702600@forte-wellbeing.com
SUMMARY:Mild Stretch Yoga: Chair & Floor Options
DESCRIPTION:Join us for a great start to your week by joining us for a virtual gentle stretch and core building yoga class on Sundays at 8am- This virtual class is a great introduction if you are new to any kind of movement or a staple if you are a veteran.  We also provide modification options for those in a chair or with injuries. \nWe look forward to seeing you!
URL:https://forte-wellbeing.com/activities/events-yoga-2/2029-02-25/
CATEGORIES:Classes,Yoga Classes
ATTACH;FMTTYPE=image/png:https://forte-wellbeing.com/wp-content/uploads/2023/10/Forte-Yoga-Class.png
LOCATION:https://us02web.zoom.us/j/89976519189
END:VEVENT
BEGIN:VEVENT
DTSTART;TZID=America/Phoenix:20290304T080000
DTEND;TZID=America/Phoenix:20290304T083000
DTSTAMP:20260419T224441
CREATED:20250306T184823Z
LAST-MODIFIED:20251111T181348Z
UID:10000954-1867305600-1867307400@forte-wellbeing.com
SUMMARY:Mild Stretch Yoga: Chair & Floor Options
DESCRIPTION:Join us for a great start to your week by joining us for a virtual gentle stretch and core building yoga class on Sundays at 8am- This virtual class is a great introduction if you are new to any kind of movement or a staple if you are a veteran.  We also provide modification options for those in a chair or with injuries. \nWe look forward to seeing you!
URL:https://forte-wellbeing.com/activities/events-yoga-2/2029-03-04/
CATEGORIES:Classes,Yoga Classes
ATTACH;FMTTYPE=image/png:https://forte-wellbeing.com/wp-content/uploads/2023/10/Forte-Yoga-Class.png
LOCATION:https://us02web.zoom.us/j/89976519189
END:VEVENT
BEGIN:VEVENT
DTSTART;TZID=America/Phoenix:20290311T080000
DTEND;TZID=America/Phoenix:20290311T083000
DTSTAMP:20260419T224441
CREATED:20250306T184823Z
LAST-MODIFIED:20251111T181348Z
UID:10000955-1867910400-1867912200@forte-wellbeing.com
SUMMARY:Mild Stretch Yoga: Chair & Floor Options
DESCRIPTION:Join us for a great start to your week by joining us for a virtual gentle stretch and core building yoga class on Sundays at 8am- This virtual class is a great introduction if you are new to any kind of movement or a staple if you are a veteran.  We also provide modification options for those in a chair or with injuries. \nWe look forward to seeing you!
URL:https://forte-wellbeing.com/activities/events-yoga-2/2029-03-11/
CATEGORIES:Classes,Yoga Classes
ATTACH;FMTTYPE=image/png:https://forte-wellbeing.com/wp-content/uploads/2023/10/Forte-Yoga-Class.png
LOCATION:https://us02web.zoom.us/j/89976519189
END:VEVENT
BEGIN:VEVENT
DTSTART;TZID=America/Phoenix:20290318T080000
DTEND;TZID=America/Phoenix:20290318T083000
DTSTAMP:20260419T224441
CREATED:20250306T184823Z
LAST-MODIFIED:20251111T181348Z
UID:10000956-1868515200-1868517000@forte-wellbeing.com
SUMMARY:Mild Stretch Yoga: Chair & Floor Options
DESCRIPTION:Join us for a great start to your week by joining us for a virtual gentle stretch and core building yoga class on Sundays at 8am- This virtual class is a great introduction if you are new to any kind of movement or a staple if you are a veteran.  We also provide modification options for those in a chair or with injuries. \nWe look forward to seeing you!
URL:https://forte-wellbeing.com/activities/events-yoga-2/2029-03-18/
CATEGORIES:Classes,Yoga Classes
ATTACH;FMTTYPE=image/png:https://forte-wellbeing.com/wp-content/uploads/2023/10/Forte-Yoga-Class.png
LOCATION:https://us02web.zoom.us/j/89976519189
END:VEVENT
BEGIN:VEVENT
DTSTART;TZID=America/Phoenix:20290325T080000
DTEND;TZID=America/Phoenix:20290325T083000
DTSTAMP:20260419T224441
CREATED:20250306T184823Z
LAST-MODIFIED:20251111T181348Z
UID:10000957-1869120000-1869121800@forte-wellbeing.com
SUMMARY:Mild Stretch Yoga: Chair & Floor Options
DESCRIPTION:Join us for a great start to your week by joining us for a virtual gentle stretch and core building yoga class on Sundays at 8am- This virtual class is a great introduction if you are new to any kind of movement or a staple if you are a veteran.  We also provide modification options for those in a chair or with injuries. \nWe look forward to seeing you!
URL:https://forte-wellbeing.com/activities/events-yoga-2/2029-03-25/
CATEGORIES:Classes,Yoga Classes
ATTACH;FMTTYPE=image/png:https://forte-wellbeing.com/wp-content/uploads/2023/10/Forte-Yoga-Class.png
LOCATION:https://us02web.zoom.us/j/89976519189
END:VEVENT
BEGIN:VEVENT
DTSTART;TZID=America/Phoenix:20290401T080000
DTEND;TZID=America/Phoenix:20290401T083000
DTSTAMP:20260419T224441
CREATED:20250306T184823Z
LAST-MODIFIED:20251111T181348Z
UID:10000958-1869724800-1869726600@forte-wellbeing.com
SUMMARY:Mild Stretch Yoga: Chair & Floor Options
DESCRIPTION:Join us for a great start to your week by joining us for a virtual gentle stretch and core building yoga class on Sundays at 8am- This virtual class is a great introduction if you are new to any kind of movement or a staple if you are a veteran.  We also provide modification options for those in a chair or with injuries. \nWe look forward to seeing you!
URL:https://forte-wellbeing.com/activities/events-yoga-2/2029-04-01/
CATEGORIES:Classes,Yoga Classes
ATTACH;FMTTYPE=image/png:https://forte-wellbeing.com/wp-content/uploads/2023/10/Forte-Yoga-Class.png
LOCATION:https://us02web.zoom.us/j/89976519189
END:VEVENT
BEGIN:VEVENT
DTSTART;TZID=America/Phoenix:20290408T080000
DTEND;TZID=America/Phoenix:20290408T083000
DTSTAMP:20260419T224441
CREATED:20250306T184823Z
LAST-MODIFIED:20251111T181348Z
UID:10000959-1870329600-1870331400@forte-wellbeing.com
SUMMARY:Mild Stretch Yoga: Chair & Floor Options
DESCRIPTION:Join us for a great start to your week by joining us for a virtual gentle stretch and core building yoga class on Sundays at 8am- This virtual class is a great introduction if you are new to any kind of movement or a staple if you are a veteran.  We also provide modification options for those in a chair or with injuries. \nWe look forward to seeing you!
URL:https://forte-wellbeing.com/activities/events-yoga-2/2029-04-08/
CATEGORIES:Classes,Yoga Classes
ATTACH;FMTTYPE=image/png:https://forte-wellbeing.com/wp-content/uploads/2023/10/Forte-Yoga-Class.png
LOCATION:https://us02web.zoom.us/j/89976519189
END:VEVENT
BEGIN:VEVENT
DTSTART;TZID=America/Phoenix:20290415T080000
DTEND;TZID=America/Phoenix:20290415T083000
DTSTAMP:20260419T224441
CREATED:20250306T184823Z
LAST-MODIFIED:20251111T181348Z
UID:10000960-1870934400-1870936200@forte-wellbeing.com
SUMMARY:Mild Stretch Yoga: Chair & Floor Options
DESCRIPTION:Join us for a great start to your week by joining us for a virtual gentle stretch and core building yoga class on Sundays at 8am- This virtual class is a great introduction if you are new to any kind of movement or a staple if you are a veteran.  We also provide modification options for those in a chair or with injuries. \nWe look forward to seeing you!
URL:https://forte-wellbeing.com/activities/events-yoga-2/2029-04-15/
CATEGORIES:Classes,Yoga Classes
ATTACH;FMTTYPE=image/png:https://forte-wellbeing.com/wp-content/uploads/2023/10/Forte-Yoga-Class.png
LOCATION:https://us02web.zoom.us/j/89976519189
END:VEVENT
BEGIN:VEVENT
DTSTART;TZID=America/Phoenix:20290422T080000
DTEND;TZID=America/Phoenix:20290422T083000
DTSTAMP:20260419T224441
CREATED:20250306T184823Z
LAST-MODIFIED:20251111T181348Z
UID:10000961-1871539200-1871541000@forte-wellbeing.com
SUMMARY:Mild Stretch Yoga: Chair & Floor Options
DESCRIPTION:Join us for a great start to your week by joining us for a virtual gentle stretch and core building yoga class on Sundays at 8am- This virtual class is a great introduction if you are new to any kind of movement or a staple if you are a veteran.  We also provide modification options for those in a chair or with injuries. \nWe look forward to seeing you!
URL:https://forte-wellbeing.com/activities/events-yoga-2/2029-04-22/
CATEGORIES:Classes,Yoga Classes
ATTACH;FMTTYPE=image/png:https://forte-wellbeing.com/wp-content/uploads/2023/10/Forte-Yoga-Class.png
LOCATION:https://us02web.zoom.us/j/89976519189
END:VEVENT
BEGIN:VEVENT
DTSTART;TZID=America/Phoenix:20290429T080000
DTEND;TZID=America/Phoenix:20290429T083000
DTSTAMP:20260419T224441
CREATED:20250306T184823Z
LAST-MODIFIED:20251111T181348Z
UID:10000962-1872144000-1872145800@forte-wellbeing.com
SUMMARY:Mild Stretch Yoga: Chair & Floor Options
DESCRIPTION:Join us for a great start to your week by joining us for a virtual gentle stretch and core building yoga class on Sundays at 8am- This virtual class is a great introduction if you are new to any kind of movement or a staple if you are a veteran.  We also provide modification options for those in a chair or with injuries. \nWe look forward to seeing you!
URL:https://forte-wellbeing.com/activities/events-yoga-2/2029-04-29/
CATEGORIES:Classes,Yoga Classes
ATTACH;FMTTYPE=image/png:https://forte-wellbeing.com/wp-content/uploads/2023/10/Forte-Yoga-Class.png
LOCATION:https://us02web.zoom.us/j/89976519189
END:VEVENT
BEGIN:VEVENT
DTSTART;TZID=America/Phoenix:20290506T080000
DTEND;TZID=America/Phoenix:20290506T083000
DTSTAMP:20260419T224441
CREATED:20250306T184823Z
LAST-MODIFIED:20251111T181348Z
UID:10000963-1872748800-1872750600@forte-wellbeing.com
SUMMARY:Mild Stretch Yoga: Chair & Floor Options
DESCRIPTION:Join us for a great start to your week by joining us for a virtual gentle stretch and core building yoga class on Sundays at 8am- This virtual class is a great introduction if you are new to any kind of movement or a staple if you are a veteran.  We also provide modification options for those in a chair or with injuries. \nWe look forward to seeing you!
URL:https://forte-wellbeing.com/activities/events-yoga-2/2029-05-06/
CATEGORIES:Classes,Yoga Classes
ATTACH;FMTTYPE=image/png:https://forte-wellbeing.com/wp-content/uploads/2023/10/Forte-Yoga-Class.png
LOCATION:https://us02web.zoom.us/j/89976519189
END:VEVENT
BEGIN:VEVENT
DTSTART;TZID=America/Phoenix:20290513T080000
DTEND;TZID=America/Phoenix:20290513T083000
DTSTAMP:20260419T224441
CREATED:20250306T184823Z
LAST-MODIFIED:20251111T181348Z
UID:10000964-1873353600-1873355400@forte-wellbeing.com
SUMMARY:Mild Stretch Yoga: Chair & Floor Options
DESCRIPTION:Join us for a great start to your week by joining us for a virtual gentle stretch and core building yoga class on Sundays at 8am- This virtual class is a great introduction if you are new to any kind of movement or a staple if you are a veteran.  We also provide modification options for those in a chair or with injuries. \nWe look forward to seeing you!
URL:https://forte-wellbeing.com/activities/events-yoga-2/2029-05-13/
CATEGORIES:Classes,Yoga Classes
ATTACH;FMTTYPE=image/png:https://forte-wellbeing.com/wp-content/uploads/2023/10/Forte-Yoga-Class.png
LOCATION:https://us02web.zoom.us/j/89976519189
END:VEVENT
BEGIN:VEVENT
DTSTART;TZID=America/Phoenix:20290520T080000
DTEND;TZID=America/Phoenix:20290520T083000
DTSTAMP:20260419T224441
CREATED:20250306T184823Z
LAST-MODIFIED:20251111T181348Z
UID:10000965-1873958400-1873960200@forte-wellbeing.com
SUMMARY:Mild Stretch Yoga: Chair & Floor Options
DESCRIPTION:Join us for a great start to your week by joining us for a virtual gentle stretch and core building yoga class on Sundays at 8am- This virtual class is a great introduction if you are new to any kind of movement or a staple if you are a veteran.  We also provide modification options for those in a chair or with injuries. \nWe look forward to seeing you!
URL:https://forte-wellbeing.com/activities/events-yoga-2/2029-05-20/
CATEGORIES:Classes,Yoga Classes
ATTACH;FMTTYPE=image/png:https://forte-wellbeing.com/wp-content/uploads/2023/10/Forte-Yoga-Class.png
LOCATION:https://us02web.zoom.us/j/89976519189
END:VEVENT
BEGIN:VEVENT
DTSTART;TZID=America/Phoenix:20290527T080000
DTEND;TZID=America/Phoenix:20290527T083000
DTSTAMP:20260419T224441
CREATED:20250306T184823Z
LAST-MODIFIED:20251111T181348Z
UID:10000966-1874563200-1874565000@forte-wellbeing.com
SUMMARY:Mild Stretch Yoga: Chair & Floor Options
DESCRIPTION:Join us for a great start to your week by joining us for a virtual gentle stretch and core building yoga class on Sundays at 8am- This virtual class is a great introduction if you are new to any kind of movement or a staple if you are a veteran.  We also provide modification options for those in a chair or with injuries. \nWe look forward to seeing you!
URL:https://forte-wellbeing.com/activities/events-yoga-2/2029-05-27/
CATEGORIES:Classes,Yoga Classes
ATTACH;FMTTYPE=image/png:https://forte-wellbeing.com/wp-content/uploads/2023/10/Forte-Yoga-Class.png
LOCATION:https://us02web.zoom.us/j/89976519189
END:VEVENT
BEGIN:VEVENT
DTSTART;TZID=America/Phoenix:20290603T080000
DTEND;TZID=America/Phoenix:20290603T083000
DTSTAMP:20260419T224441
CREATED:20250306T184823Z
LAST-MODIFIED:20251111T181348Z
UID:10000967-1875168000-1875169800@forte-wellbeing.com
SUMMARY:Mild Stretch Yoga: Chair & Floor Options
DESCRIPTION:Join us for a great start to your week by joining us for a virtual gentle stretch and core building yoga class on Sundays at 8am- This virtual class is a great introduction if you are new to any kind of movement or a staple if you are a veteran.  We also provide modification options for those in a chair or with injuries. \nWe look forward to seeing you!
URL:https://forte-wellbeing.com/activities/events-yoga-2/2029-06-03/
CATEGORIES:Classes,Yoga Classes
ATTACH;FMTTYPE=image/png:https://forte-wellbeing.com/wp-content/uploads/2023/10/Forte-Yoga-Class.png
LOCATION:https://us02web.zoom.us/j/89976519189
END:VEVENT
BEGIN:VEVENT
DTSTART;TZID=America/Phoenix:20290610T080000
DTEND;TZID=America/Phoenix:20290610T083000
DTSTAMP:20260419T224441
CREATED:20250306T184823Z
LAST-MODIFIED:20251111T181348Z
UID:10000968-1875772800-1875774600@forte-wellbeing.com
SUMMARY:Mild Stretch Yoga: Chair & Floor Options
DESCRIPTION:Join us for a great start to your week by joining us for a virtual gentle stretch and core building yoga class on Sundays at 8am- This virtual class is a great introduction if you are new to any kind of movement or a staple if you are a veteran.  We also provide modification options for those in a chair or with injuries. \nWe look forward to seeing you!
URL:https://forte-wellbeing.com/activities/events-yoga-2/2029-06-10/
CATEGORIES:Classes,Yoga Classes
ATTACH;FMTTYPE=image/png:https://forte-wellbeing.com/wp-content/uploads/2023/10/Forte-Yoga-Class.png
LOCATION:https://us02web.zoom.us/j/89976519189
END:VEVENT
BEGIN:VEVENT
DTSTART;TZID=America/Phoenix:20290617T080000
DTEND;TZID=America/Phoenix:20290617T083000
DTSTAMP:20260419T224441
CREATED:20250306T184823Z
LAST-MODIFIED:20251111T181348Z
UID:10000969-1876377600-1876379400@forte-wellbeing.com
SUMMARY:Mild Stretch Yoga: Chair & Floor Options
DESCRIPTION:Join us for a great start to your week by joining us for a virtual gentle stretch and core building yoga class on Sundays at 8am- This virtual class is a great introduction if you are new to any kind of movement or a staple if you are a veteran.  We also provide modification options for those in a chair or with injuries. \nWe look forward to seeing you!
URL:https://forte-wellbeing.com/activities/events-yoga-2/2029-06-17/
CATEGORIES:Classes,Yoga Classes
ATTACH;FMTTYPE=image/png:https://forte-wellbeing.com/wp-content/uploads/2023/10/Forte-Yoga-Class.png
LOCATION:https://us02web.zoom.us/j/89976519189
END:VEVENT
BEGIN:VEVENT
DTSTART;TZID=America/Phoenix:20290624T080000
DTEND;TZID=America/Phoenix:20290624T083000
DTSTAMP:20260419T224441
CREATED:20250306T184823Z
LAST-MODIFIED:20251111T181348Z
UID:10000970-1876982400-1876984200@forte-wellbeing.com
SUMMARY:Mild Stretch Yoga: Chair & Floor Options
DESCRIPTION:Join us for a great start to your week by joining us for a virtual gentle stretch and core building yoga class on Sundays at 8am- This virtual class is a great introduction if you are new to any kind of movement or a staple if you are a veteran.  We also provide modification options for those in a chair or with injuries. \nWe look forward to seeing you!
URL:https://forte-wellbeing.com/activities/events-yoga-2/2029-06-24/
CATEGORIES:Classes,Yoga Classes
ATTACH;FMTTYPE=image/png:https://forte-wellbeing.com/wp-content/uploads/2023/10/Forte-Yoga-Class.png
LOCATION:https://us02web.zoom.us/j/89976519189
END:VEVENT
BEGIN:VEVENT
DTSTART;TZID=America/Phoenix:20290701T080000
DTEND;TZID=America/Phoenix:20290701T083000
DTSTAMP:20260419T224441
CREATED:20250306T184823Z
LAST-MODIFIED:20251111T181348Z
UID:10000971-1877587200-1877589000@forte-wellbeing.com
SUMMARY:Mild Stretch Yoga: Chair & Floor Options
DESCRIPTION:Join us for a great start to your week by joining us for a virtual gentle stretch and core building yoga class on Sundays at 8am- This virtual class is a great introduction if you are new to any kind of movement or a staple if you are a veteran.  We also provide modification options for those in a chair or with injuries. \nWe look forward to seeing you!
URL:https://forte-wellbeing.com/activities/events-yoga-2/2029-07-01/
CATEGORIES:Classes,Yoga Classes
ATTACH;FMTTYPE=image/png:https://forte-wellbeing.com/wp-content/uploads/2023/10/Forte-Yoga-Class.png
LOCATION:https://us02web.zoom.us/j/89976519189
END:VEVENT
BEGIN:VEVENT
DTSTART;TZID=America/Phoenix:20290708T080000
DTEND;TZID=America/Phoenix:20290708T083000
DTSTAMP:20260419T224441
CREATED:20250306T184823Z
LAST-MODIFIED:20251111T181348Z
UID:10000972-1878192000-1878193800@forte-wellbeing.com
SUMMARY:Mild Stretch Yoga: Chair & Floor Options
DESCRIPTION:Join us for a great start to your week by joining us for a virtual gentle stretch and core building yoga class on Sundays at 8am- This virtual class is a great introduction if you are new to any kind of movement or a staple if you are a veteran.  We also provide modification options for those in a chair or with injuries. \nWe look forward to seeing you!
URL:https://forte-wellbeing.com/activities/events-yoga-2/2029-07-08/
CATEGORIES:Classes,Yoga Classes
ATTACH;FMTTYPE=image/png:https://forte-wellbeing.com/wp-content/uploads/2023/10/Forte-Yoga-Class.png
LOCATION:https://us02web.zoom.us/j/89976519189
END:VEVENT
BEGIN:VEVENT
DTSTART;TZID=America/Phoenix:20290715T080000
DTEND;TZID=America/Phoenix:20290715T083000
DTSTAMP:20260419T224442
CREATED:20250306T184823Z
LAST-MODIFIED:20251111T181348Z
UID:10000973-1878796800-1878798600@forte-wellbeing.com
SUMMARY:Mild Stretch Yoga: Chair & Floor Options
DESCRIPTION:Join us for a great start to your week by joining us for a virtual gentle stretch and core building yoga class on Sundays at 8am- This virtual class is a great introduction if you are new to any kind of movement or a staple if you are a veteran.  We also provide modification options for those in a chair or with injuries. \nWe look forward to seeing you!
URL:https://forte-wellbeing.com/activities/events-yoga-2/2029-07-15/
CATEGORIES:Classes,Yoga Classes
ATTACH;FMTTYPE=image/png:https://forte-wellbeing.com/wp-content/uploads/2023/10/Forte-Yoga-Class.png
LOCATION:https://us02web.zoom.us/j/89976519189
END:VEVENT
BEGIN:VEVENT
DTSTART;TZID=America/Phoenix:20290722T080000
DTEND;TZID=America/Phoenix:20290722T083000
DTSTAMP:20260419T224442
CREATED:20250306T184823Z
LAST-MODIFIED:20251111T181348Z
UID:10000974-1879401600-1879403400@forte-wellbeing.com
SUMMARY:Mild Stretch Yoga: Chair & Floor Options
DESCRIPTION:Join us for a great start to your week by joining us for a virtual gentle stretch and core building yoga class on Sundays at 8am- This virtual class is a great introduction if you are new to any kind of movement or a staple if you are a veteran.  We also provide modification options for those in a chair or with injuries. \nWe look forward to seeing you!
URL:https://forte-wellbeing.com/activities/events-yoga-2/2029-07-22/
CATEGORIES:Classes,Yoga Classes
ATTACH;FMTTYPE=image/png:https://forte-wellbeing.com/wp-content/uploads/2023/10/Forte-Yoga-Class.png
LOCATION:https://us02web.zoom.us/j/89976519189
END:VEVENT
BEGIN:VEVENT
DTSTART;TZID=America/Phoenix:20290729T080000
DTEND;TZID=America/Phoenix:20290729T083000
DTSTAMP:20260419T224442
CREATED:20250306T184823Z
LAST-MODIFIED:20251111T181348Z
UID:10000975-1880006400-1880008200@forte-wellbeing.com
SUMMARY:Mild Stretch Yoga: Chair & Floor Options
DESCRIPTION:Join us for a great start to your week by joining us for a virtual gentle stretch and core building yoga class on Sundays at 8am- This virtual class is a great introduction if you are new to any kind of movement or a staple if you are a veteran.  We also provide modification options for those in a chair or with injuries. \nWe look forward to seeing you!
URL:https://forte-wellbeing.com/activities/events-yoga-2/2029-07-29/
CATEGORIES:Classes,Yoga Classes
ATTACH;FMTTYPE=image/png:https://forte-wellbeing.com/wp-content/uploads/2023/10/Forte-Yoga-Class.png
LOCATION:https://us02web.zoom.us/j/89976519189
END:VEVENT
BEGIN:VEVENT
DTSTART;TZID=America/Phoenix:20290805T080000
DTEND;TZID=America/Phoenix:20290805T083000
DTSTAMP:20260419T224442
CREATED:20250306T184823Z
LAST-MODIFIED:20251111T181348Z
UID:10000976-1880611200-1880613000@forte-wellbeing.com
SUMMARY:Mild Stretch Yoga: Chair & Floor Options
DESCRIPTION:Join us for a great start to your week by joining us for a virtual gentle stretch and core building yoga class on Sundays at 8am- This virtual class is a great introduction if you are new to any kind of movement or a staple if you are a veteran.  We also provide modification options for those in a chair or with injuries. \nWe look forward to seeing you!
URL:https://forte-wellbeing.com/activities/events-yoga-2/2029-08-05/
CATEGORIES:Classes,Yoga Classes
ATTACH;FMTTYPE=image/png:https://forte-wellbeing.com/wp-content/uploads/2023/10/Forte-Yoga-Class.png
LOCATION:https://us02web.zoom.us/j/89976519189
END:VEVENT
BEGIN:VEVENT
DTSTART;TZID=America/Phoenix:20290812T080000
DTEND;TZID=America/Phoenix:20290812T083000
DTSTAMP:20260419T224442
CREATED:20250306T184823Z
LAST-MODIFIED:20251111T181348Z
UID:10000977-1881216000-1881217800@forte-wellbeing.com
SUMMARY:Mild Stretch Yoga: Chair & Floor Options
DESCRIPTION:Join us for a great start to your week by joining us for a virtual gentle stretch and core building yoga class on Sundays at 8am- This virtual class is a great introduction if you are new to any kind of movement or a staple if you are a veteran.  We also provide modification options for those in a chair or with injuries. \nWe look forward to seeing you!
URL:https://forte-wellbeing.com/activities/events-yoga-2/2029-08-12/
CATEGORIES:Classes,Yoga Classes
ATTACH;FMTTYPE=image/png:https://forte-wellbeing.com/wp-content/uploads/2023/10/Forte-Yoga-Class.png
LOCATION:https://us02web.zoom.us/j/89976519189
END:VEVENT
BEGIN:VEVENT
DTSTART;TZID=America/Phoenix:20290819T080000
DTEND;TZID=America/Phoenix:20290819T083000
DTSTAMP:20260419T224442
CREATED:20250306T184823Z
LAST-MODIFIED:20251111T181348Z
UID:10000978-1881820800-1881822600@forte-wellbeing.com
SUMMARY:Mild Stretch Yoga: Chair & Floor Options
DESCRIPTION:Join us for a great start to your week by joining us for a virtual gentle stretch and core building yoga class on Sundays at 8am- This virtual class is a great introduction if you are new to any kind of movement or a staple if you are a veteran.  We also provide modification options for those in a chair or with injuries. \nWe look forward to seeing you!
URL:https://forte-wellbeing.com/activities/events-yoga-2/2029-08-19/
CATEGORIES:Classes,Yoga Classes
ATTACH;FMTTYPE=image/png:https://forte-wellbeing.com/wp-content/uploads/2023/10/Forte-Yoga-Class.png
LOCATION:https://us02web.zoom.us/j/89976519189
END:VEVENT
END:VCALENDAR