BEGIN:VCALENDAR
VERSION:2.0
PRODID:-//FORTE – WELL BEING - ECPv6.15.18//NONSGML v1.0//EN
CALSCALE:GREGORIAN
METHOD:PUBLISH
X-WR-CALNAME:FORTE – WELL BEING
X-ORIGINAL-URL:https://forte-wellbeing.com
X-WR-CALDESC:Events for FORTE – WELL BEING
REFRESH-INTERVAL;VALUE=DURATION:PT1H
X-Robots-Tag:noindex
X-PUBLISHED-TTL:PT1H
BEGIN:VTIMEZONE
TZID:America/Phoenix
BEGIN:STANDARD
TZOFFSETFROM:-0700
TZOFFSETTO:-0700
TZNAME:MST
DTSTART:20290101T000000
END:STANDARD
END:VTIMEZONE
BEGIN:VEVENT
DTSTART;TZID=America/Phoenix:20300210T080000
DTEND;TZID=America/Phoenix:20300210T083000
DTSTAMP:20260425T103007
CREATED:20250306T184823Z
LAST-MODIFIED:20251111T181348Z
UID:10001003-1896940800-1896942600@forte-wellbeing.com
SUMMARY:Mild Stretch Yoga: Chair & Floor Options
DESCRIPTION:Join us for a great start to your week by joining us for a virtual gentle stretch and core building yoga class on Sundays at 8am- This virtual class is a great introduction if you are new to any kind of movement or a staple if you are a veteran.  We also provide modification options for those in a chair or with injuries. \nWe look forward to seeing you!
URL:https://forte-wellbeing.com/activities/events-yoga-2/2030-02-10/
CATEGORIES:Classes,Yoga Classes
ATTACH;FMTTYPE=image/png:https://forte-wellbeing.com/wp-content/uploads/2023/10/Forte-Yoga-Class.png
LOCATION:https://us02web.zoom.us/j/89976519189
END:VEVENT
BEGIN:VEVENT
DTSTART;TZID=America/Phoenix:20300217T080000
DTEND;TZID=America/Phoenix:20300217T083000
DTSTAMP:20260425T103008
CREATED:20250306T184823Z
LAST-MODIFIED:20251111T181348Z
UID:10001004-1897545600-1897547400@forte-wellbeing.com
SUMMARY:Mild Stretch Yoga: Chair & Floor Options
DESCRIPTION:Join us for a great start to your week by joining us for a virtual gentle stretch and core building yoga class on Sundays at 8am- This virtual class is a great introduction if you are new to any kind of movement or a staple if you are a veteran.  We also provide modification options for those in a chair or with injuries. \nWe look forward to seeing you!
URL:https://forte-wellbeing.com/activities/events-yoga-2/2030-02-17/
CATEGORIES:Classes,Yoga Classes
ATTACH;FMTTYPE=image/png:https://forte-wellbeing.com/wp-content/uploads/2023/10/Forte-Yoga-Class.png
LOCATION:https://us02web.zoom.us/j/89976519189
END:VEVENT
BEGIN:VEVENT
DTSTART;TZID=America/Phoenix:20300224T080000
DTEND;TZID=America/Phoenix:20300224T083000
DTSTAMP:20260425T103008
CREATED:20250306T184823Z
LAST-MODIFIED:20251111T181348Z
UID:10001005-1898150400-1898152200@forte-wellbeing.com
SUMMARY:Mild Stretch Yoga: Chair & Floor Options
DESCRIPTION:Join us for a great start to your week by joining us for a virtual gentle stretch and core building yoga class on Sundays at 8am- This virtual class is a great introduction if you are new to any kind of movement or a staple if you are a veteran.  We also provide modification options for those in a chair or with injuries. \nWe look forward to seeing you!
URL:https://forte-wellbeing.com/activities/events-yoga-2/2030-02-24/
CATEGORIES:Classes,Yoga Classes
ATTACH;FMTTYPE=image/png:https://forte-wellbeing.com/wp-content/uploads/2023/10/Forte-Yoga-Class.png
LOCATION:https://us02web.zoom.us/j/89976519189
END:VEVENT
BEGIN:VEVENT
DTSTART;TZID=America/Phoenix:20300303T080000
DTEND;TZID=America/Phoenix:20300303T083000
DTSTAMP:20260425T103008
CREATED:20250306T184823Z
LAST-MODIFIED:20251111T181348Z
UID:10001006-1898755200-1898757000@forte-wellbeing.com
SUMMARY:Mild Stretch Yoga: Chair & Floor Options
DESCRIPTION:Join us for a great start to your week by joining us for a virtual gentle stretch and core building yoga class on Sundays at 8am- This virtual class is a great introduction if you are new to any kind of movement or a staple if you are a veteran.  We also provide modification options for those in a chair or with injuries. \nWe look forward to seeing you!
URL:https://forte-wellbeing.com/activities/events-yoga-2/2030-03-03/
CATEGORIES:Classes,Yoga Classes
ATTACH;FMTTYPE=image/png:https://forte-wellbeing.com/wp-content/uploads/2023/10/Forte-Yoga-Class.png
LOCATION:https://us02web.zoom.us/j/89976519189
END:VEVENT
BEGIN:VEVENT
DTSTART;TZID=America/Phoenix:20300310T080000
DTEND;TZID=America/Phoenix:20300310T083000
DTSTAMP:20260425T103008
CREATED:20250306T184823Z
LAST-MODIFIED:20251111T181348Z
UID:10002585-1899360000-1899361800@forte-wellbeing.com
SUMMARY:Mild Stretch Yoga: Chair & Floor Options
DESCRIPTION:Join us for a great start to your week by joining us for a virtual gentle stretch and core building yoga class on Sundays at 8am- This virtual class is a great introduction if you are new to any kind of movement or a staple if you are a veteran.  We also provide modification options for those in a chair or with injuries. \nWe look forward to seeing you!
URL:https://forte-wellbeing.com/activities/events-yoga-2/2030-03-10/
CATEGORIES:Classes,Yoga Classes
ATTACH;FMTTYPE=image/png:https://forte-wellbeing.com/wp-content/uploads/2023/10/Forte-Yoga-Class.png
LOCATION:https://us02web.zoom.us/j/89976519189
END:VEVENT
BEGIN:VEVENT
DTSTART;TZID=America/Phoenix:20300317T080000
DTEND;TZID=America/Phoenix:20300317T083000
DTSTAMP:20260425T103008
CREATED:20250306T184823Z
LAST-MODIFIED:20251111T181348Z
UID:10002586-1899964800-1899966600@forte-wellbeing.com
SUMMARY:Mild Stretch Yoga: Chair & Floor Options
DESCRIPTION:Join us for a great start to your week by joining us for a virtual gentle stretch and core building yoga class on Sundays at 8am- This virtual class is a great introduction if you are new to any kind of movement or a staple if you are a veteran.  We also provide modification options for those in a chair or with injuries. \nWe look forward to seeing you!
URL:https://forte-wellbeing.com/activities/events-yoga-2/2030-03-17/
CATEGORIES:Classes,Yoga Classes
ATTACH;FMTTYPE=image/png:https://forte-wellbeing.com/wp-content/uploads/2023/10/Forte-Yoga-Class.png
LOCATION:https://us02web.zoom.us/j/89976519189
END:VEVENT
BEGIN:VEVENT
DTSTART;TZID=America/Phoenix:20300324T080000
DTEND;TZID=America/Phoenix:20300324T083000
DTSTAMP:20260425T103008
CREATED:20250306T184823Z
LAST-MODIFIED:20251111T181348Z
UID:10002587-1900569600-1900571400@forte-wellbeing.com
SUMMARY:Mild Stretch Yoga: Chair & Floor Options
DESCRIPTION:Join us for a great start to your week by joining us for a virtual gentle stretch and core building yoga class on Sundays at 8am- This virtual class is a great introduction if you are new to any kind of movement or a staple if you are a veteran.  We also provide modification options for those in a chair or with injuries. \nWe look forward to seeing you!
URL:https://forte-wellbeing.com/activities/events-yoga-2/2030-03-24/
CATEGORIES:Classes,Yoga Classes
ATTACH;FMTTYPE=image/png:https://forte-wellbeing.com/wp-content/uploads/2023/10/Forte-Yoga-Class.png
LOCATION:https://us02web.zoom.us/j/89976519189
END:VEVENT
BEGIN:VEVENT
DTSTART;TZID=America/Phoenix:20300331T080000
DTEND;TZID=America/Phoenix:20300331T083000
DTSTAMP:20260425T103008
CREATED:20250306T184823Z
LAST-MODIFIED:20251111T181348Z
UID:10002588-1901174400-1901176200@forte-wellbeing.com
SUMMARY:Mild Stretch Yoga: Chair & Floor Options
DESCRIPTION:Join us for a great start to your week by joining us for a virtual gentle stretch and core building yoga class on Sundays at 8am- This virtual class is a great introduction if you are new to any kind of movement or a staple if you are a veteran.  We also provide modification options for those in a chair or with injuries. \nWe look forward to seeing you!
URL:https://forte-wellbeing.com/activities/events-yoga-2/2030-03-31/
CATEGORIES:Classes,Yoga Classes
ATTACH;FMTTYPE=image/png:https://forte-wellbeing.com/wp-content/uploads/2023/10/Forte-Yoga-Class.png
LOCATION:https://us02web.zoom.us/j/89976519189
END:VEVENT
BEGIN:VEVENT
DTSTART;TZID=America/Phoenix:20300407T080000
DTEND;TZID=America/Phoenix:20300407T083000
DTSTAMP:20260425T103008
CREATED:20250306T184823Z
LAST-MODIFIED:20251111T181348Z
UID:10002589-1901779200-1901781000@forte-wellbeing.com
SUMMARY:Mild Stretch Yoga: Chair & Floor Options
DESCRIPTION:Join us for a great start to your week by joining us for a virtual gentle stretch and core building yoga class on Sundays at 8am- This virtual class is a great introduction if you are new to any kind of movement or a staple if you are a veteran.  We also provide modification options for those in a chair or with injuries. \nWe look forward to seeing you!
URL:https://forte-wellbeing.com/activities/events-yoga-2/2030-04-07/
CATEGORIES:Classes,Yoga Classes
ATTACH;FMTTYPE=image/png:https://forte-wellbeing.com/wp-content/uploads/2023/10/Forte-Yoga-Class.png
LOCATION:https://us02web.zoom.us/j/89976519189
END:VEVENT
BEGIN:VEVENT
DTSTART;TZID=America/Phoenix:20300414T080000
DTEND;TZID=America/Phoenix:20300414T083000
DTSTAMP:20260425T103008
CREATED:20250306T184823Z
LAST-MODIFIED:20251111T181348Z
UID:10002590-1902384000-1902385800@forte-wellbeing.com
SUMMARY:Mild Stretch Yoga: Chair & Floor Options
DESCRIPTION:Join us for a great start to your week by joining us for a virtual gentle stretch and core building yoga class on Sundays at 8am- This virtual class is a great introduction if you are new to any kind of movement or a staple if you are a veteran.  We also provide modification options for those in a chair or with injuries. \nWe look forward to seeing you!
URL:https://forte-wellbeing.com/activities/events-yoga-2/2030-04-14/
CATEGORIES:Classes,Yoga Classes
ATTACH;FMTTYPE=image/png:https://forte-wellbeing.com/wp-content/uploads/2023/10/Forte-Yoga-Class.png
LOCATION:https://us02web.zoom.us/j/89976519189
END:VEVENT
BEGIN:VEVENT
DTSTART;TZID=America/Phoenix:20300421T080000
DTEND;TZID=America/Phoenix:20300421T083000
DTSTAMP:20260425T103008
CREATED:20250306T184823Z
LAST-MODIFIED:20251111T181348Z
UID:10002591-1902988800-1902990600@forte-wellbeing.com
SUMMARY:Mild Stretch Yoga: Chair & Floor Options
DESCRIPTION:Join us for a great start to your week by joining us for a virtual gentle stretch and core building yoga class on Sundays at 8am- This virtual class is a great introduction if you are new to any kind of movement or a staple if you are a veteran.  We also provide modification options for those in a chair or with injuries. \nWe look forward to seeing you!
URL:https://forte-wellbeing.com/activities/events-yoga-2/2030-04-21/
CATEGORIES:Classes,Yoga Classes
ATTACH;FMTTYPE=image/png:https://forte-wellbeing.com/wp-content/uploads/2023/10/Forte-Yoga-Class.png
LOCATION:https://us02web.zoom.us/j/89976519189
END:VEVENT
BEGIN:VEVENT
DTSTART;TZID=America/Phoenix:20300428T080000
DTEND;TZID=America/Phoenix:20300428T083000
DTSTAMP:20260425T103008
CREATED:20250306T184823Z
LAST-MODIFIED:20251111T181348Z
UID:10002592-1903593600-1903595400@forte-wellbeing.com
SUMMARY:Mild Stretch Yoga: Chair & Floor Options
DESCRIPTION:Join us for a great start to your week by joining us for a virtual gentle stretch and core building yoga class on Sundays at 8am- This virtual class is a great introduction if you are new to any kind of movement or a staple if you are a veteran.  We also provide modification options for those in a chair or with injuries. \nWe look forward to seeing you!
URL:https://forte-wellbeing.com/activities/events-yoga-2/2030-04-28/
CATEGORIES:Classes,Yoga Classes
ATTACH;FMTTYPE=image/png:https://forte-wellbeing.com/wp-content/uploads/2023/10/Forte-Yoga-Class.png
LOCATION:https://us02web.zoom.us/j/89976519189
END:VEVENT
BEGIN:VEVENT
DTSTART;TZID=America/Phoenix:20300505T080000
DTEND;TZID=America/Phoenix:20300505T083000
DTSTAMP:20260425T103008
CREATED:20250306T184823Z
LAST-MODIFIED:20251111T181348Z
UID:10002593-1904198400-1904200200@forte-wellbeing.com
SUMMARY:Mild Stretch Yoga: Chair & Floor Options
DESCRIPTION:Join us for a great start to your week by joining us for a virtual gentle stretch and core building yoga class on Sundays at 8am- This virtual class is a great introduction if you are new to any kind of movement or a staple if you are a veteran.  We also provide modification options for those in a chair or with injuries. \nWe look forward to seeing you!
URL:https://forte-wellbeing.com/activities/events-yoga-2/2030-05-05/
CATEGORIES:Classes,Yoga Classes
ATTACH;FMTTYPE=image/png:https://forte-wellbeing.com/wp-content/uploads/2023/10/Forte-Yoga-Class.png
LOCATION:https://us02web.zoom.us/j/89976519189
END:VEVENT
BEGIN:VEVENT
DTSTART;TZID=America/Phoenix:20300512T080000
DTEND;TZID=America/Phoenix:20300512T083000
DTSTAMP:20260425T103008
CREATED:20250306T184823Z
LAST-MODIFIED:20251111T181348Z
UID:10002594-1904803200-1904805000@forte-wellbeing.com
SUMMARY:Mild Stretch Yoga: Chair & Floor Options
DESCRIPTION:Join us for a great start to your week by joining us for a virtual gentle stretch and core building yoga class on Sundays at 8am- This virtual class is a great introduction if you are new to any kind of movement or a staple if you are a veteran.  We also provide modification options for those in a chair or with injuries. \nWe look forward to seeing you!
URL:https://forte-wellbeing.com/activities/events-yoga-2/2030-05-12/
CATEGORIES:Classes,Yoga Classes
ATTACH;FMTTYPE=image/png:https://forte-wellbeing.com/wp-content/uploads/2023/10/Forte-Yoga-Class.png
LOCATION:https://us02web.zoom.us/j/89976519189
END:VEVENT
BEGIN:VEVENT
DTSTART;TZID=America/Phoenix:20300519T080000
DTEND;TZID=America/Phoenix:20300519T083000
DTSTAMP:20260425T103008
CREATED:20250306T184823Z
LAST-MODIFIED:20251111T181348Z
UID:10002595-1905408000-1905409800@forte-wellbeing.com
SUMMARY:Mild Stretch Yoga: Chair & Floor Options
DESCRIPTION:Join us for a great start to your week by joining us for a virtual gentle stretch and core building yoga class on Sundays at 8am- This virtual class is a great introduction if you are new to any kind of movement or a staple if you are a veteran.  We also provide modification options for those in a chair or with injuries. \nWe look forward to seeing you!
URL:https://forte-wellbeing.com/activities/events-yoga-2/2030-05-19/
CATEGORIES:Classes,Yoga Classes
ATTACH;FMTTYPE=image/png:https://forte-wellbeing.com/wp-content/uploads/2023/10/Forte-Yoga-Class.png
LOCATION:https://us02web.zoom.us/j/89976519189
END:VEVENT
BEGIN:VEVENT
DTSTART;TZID=America/Phoenix:20300526T080000
DTEND;TZID=America/Phoenix:20300526T083000
DTSTAMP:20260425T103008
CREATED:20250306T184823Z
LAST-MODIFIED:20251111T181348Z
UID:10002596-1906012800-1906014600@forte-wellbeing.com
SUMMARY:Mild Stretch Yoga: Chair & Floor Options
DESCRIPTION:Join us for a great start to your week by joining us for a virtual gentle stretch and core building yoga class on Sundays at 8am- This virtual class is a great introduction if you are new to any kind of movement or a staple if you are a veteran.  We also provide modification options for those in a chair or with injuries. \nWe look forward to seeing you!
URL:https://forte-wellbeing.com/activities/events-yoga-2/2030-05-26/
CATEGORIES:Classes,Yoga Classes
ATTACH;FMTTYPE=image/png:https://forte-wellbeing.com/wp-content/uploads/2023/10/Forte-Yoga-Class.png
LOCATION:https://us02web.zoom.us/j/89976519189
END:VEVENT
BEGIN:VEVENT
DTSTART;TZID=America/Phoenix:20300602T080000
DTEND;TZID=America/Phoenix:20300602T083000
DTSTAMP:20260425T103008
CREATED:20250306T184823Z
LAST-MODIFIED:20251111T181348Z
UID:10002597-1906617600-1906619400@forte-wellbeing.com
SUMMARY:Mild Stretch Yoga: Chair & Floor Options
DESCRIPTION:Join us for a great start to your week by joining us for a virtual gentle stretch and core building yoga class on Sundays at 8am- This virtual class is a great introduction if you are new to any kind of movement or a staple if you are a veteran.  We also provide modification options for those in a chair or with injuries. \nWe look forward to seeing you!
URL:https://forte-wellbeing.com/activities/events-yoga-2/2030-06-02/
CATEGORIES:Classes,Yoga Classes
ATTACH;FMTTYPE=image/png:https://forte-wellbeing.com/wp-content/uploads/2023/10/Forte-Yoga-Class.png
LOCATION:https://us02web.zoom.us/j/89976519189
END:VEVENT
BEGIN:VEVENT
DTSTART;TZID=America/Phoenix:20300609T080000
DTEND;TZID=America/Phoenix:20300609T083000
DTSTAMP:20260425T103008
CREATED:20250306T184823Z
LAST-MODIFIED:20251111T181348Z
UID:10002598-1907222400-1907224200@forte-wellbeing.com
SUMMARY:Mild Stretch Yoga: Chair & Floor Options
DESCRIPTION:Join us for a great start to your week by joining us for a virtual gentle stretch and core building yoga class on Sundays at 8am- This virtual class is a great introduction if you are new to any kind of movement or a staple if you are a veteran.  We also provide modification options for those in a chair or with injuries. \nWe look forward to seeing you!
URL:https://forte-wellbeing.com/activities/events-yoga-2/2030-06-09/
CATEGORIES:Classes,Yoga Classes
ATTACH;FMTTYPE=image/png:https://forte-wellbeing.com/wp-content/uploads/2023/10/Forte-Yoga-Class.png
LOCATION:https://us02web.zoom.us/j/89976519189
END:VEVENT
BEGIN:VEVENT
DTSTART;TZID=America/Phoenix:20300616T080000
DTEND;TZID=America/Phoenix:20300616T083000
DTSTAMP:20260425T103008
CREATED:20250306T184823Z
LAST-MODIFIED:20251111T181348Z
UID:10002599-1907827200-1907829000@forte-wellbeing.com
SUMMARY:Mild Stretch Yoga: Chair & Floor Options
DESCRIPTION:Join us for a great start to your week by joining us for a virtual gentle stretch and core building yoga class on Sundays at 8am- This virtual class is a great introduction if you are new to any kind of movement or a staple if you are a veteran.  We also provide modification options for those in a chair or with injuries. \nWe look forward to seeing you!
URL:https://forte-wellbeing.com/activities/events-yoga-2/2030-06-16/
CATEGORIES:Classes,Yoga Classes
ATTACH;FMTTYPE=image/png:https://forte-wellbeing.com/wp-content/uploads/2023/10/Forte-Yoga-Class.png
LOCATION:https://us02web.zoom.us/j/89976519189
END:VEVENT
BEGIN:VEVENT
DTSTART;TZID=America/Phoenix:20300623T080000
DTEND;TZID=America/Phoenix:20300623T083000
DTSTAMP:20260425T103008
CREATED:20250306T184823Z
LAST-MODIFIED:20251111T181348Z
UID:10002600-1908432000-1908433800@forte-wellbeing.com
SUMMARY:Mild Stretch Yoga: Chair & Floor Options
DESCRIPTION:Join us for a great start to your week by joining us for a virtual gentle stretch and core building yoga class on Sundays at 8am- This virtual class is a great introduction if you are new to any kind of movement or a staple if you are a veteran.  We also provide modification options for those in a chair or with injuries. \nWe look forward to seeing you!
URL:https://forte-wellbeing.com/activities/events-yoga-2/2030-06-23/
CATEGORIES:Classes,Yoga Classes
ATTACH;FMTTYPE=image/png:https://forte-wellbeing.com/wp-content/uploads/2023/10/Forte-Yoga-Class.png
LOCATION:https://us02web.zoom.us/j/89976519189
END:VEVENT
BEGIN:VEVENT
DTSTART;TZID=America/Phoenix:20300630T080000
DTEND;TZID=America/Phoenix:20300630T083000
DTSTAMP:20260425T103008
CREATED:20250306T184823Z
LAST-MODIFIED:20251111T181348Z
UID:10002601-1909036800-1909038600@forte-wellbeing.com
SUMMARY:Mild Stretch Yoga: Chair & Floor Options
DESCRIPTION:Join us for a great start to your week by joining us for a virtual gentle stretch and core building yoga class on Sundays at 8am- This virtual class is a great introduction if you are new to any kind of movement or a staple if you are a veteran.  We also provide modification options for those in a chair or with injuries. \nWe look forward to seeing you!
URL:https://forte-wellbeing.com/activities/events-yoga-2/2030-06-30/
CATEGORIES:Classes,Yoga Classes
ATTACH;FMTTYPE=image/png:https://forte-wellbeing.com/wp-content/uploads/2023/10/Forte-Yoga-Class.png
LOCATION:https://us02web.zoom.us/j/89976519189
END:VEVENT
BEGIN:VEVENT
DTSTART;TZID=America/Phoenix:20300707T080000
DTEND;TZID=America/Phoenix:20300707T083000
DTSTAMP:20260425T103008
CREATED:20250306T184823Z
LAST-MODIFIED:20251111T181348Z
UID:10002602-1909641600-1909643400@forte-wellbeing.com
SUMMARY:Mild Stretch Yoga: Chair & Floor Options
DESCRIPTION:Join us for a great start to your week by joining us for a virtual gentle stretch and core building yoga class on Sundays at 8am- This virtual class is a great introduction if you are new to any kind of movement or a staple if you are a veteran.  We also provide modification options for those in a chair or with injuries. \nWe look forward to seeing you!
URL:https://forte-wellbeing.com/activities/events-yoga-2/2030-07-07/
CATEGORIES:Classes,Yoga Classes
ATTACH;FMTTYPE=image/png:https://forte-wellbeing.com/wp-content/uploads/2023/10/Forte-Yoga-Class.png
LOCATION:https://us02web.zoom.us/j/89976519189
END:VEVENT
BEGIN:VEVENT
DTSTART;TZID=America/Phoenix:20300714T080000
DTEND;TZID=America/Phoenix:20300714T083000
DTSTAMP:20260425T103008
CREATED:20250306T184823Z
LAST-MODIFIED:20251111T181348Z
UID:10002603-1910246400-1910248200@forte-wellbeing.com
SUMMARY:Mild Stretch Yoga: Chair & Floor Options
DESCRIPTION:Join us for a great start to your week by joining us for a virtual gentle stretch and core building yoga class on Sundays at 8am- This virtual class is a great introduction if you are new to any kind of movement or a staple if you are a veteran.  We also provide modification options for those in a chair or with injuries. \nWe look forward to seeing you!
URL:https://forte-wellbeing.com/activities/events-yoga-2/2030-07-14/
CATEGORIES:Classes,Yoga Classes
ATTACH;FMTTYPE=image/png:https://forte-wellbeing.com/wp-content/uploads/2023/10/Forte-Yoga-Class.png
LOCATION:https://us02web.zoom.us/j/89976519189
END:VEVENT
BEGIN:VEVENT
DTSTART;TZID=America/Phoenix:20300721T080000
DTEND;TZID=America/Phoenix:20300721T083000
DTSTAMP:20260425T103008
CREATED:20250306T184823Z
LAST-MODIFIED:20251111T181348Z
UID:10002604-1910851200-1910853000@forte-wellbeing.com
SUMMARY:Mild Stretch Yoga: Chair & Floor Options
DESCRIPTION:Join us for a great start to your week by joining us for a virtual gentle stretch and core building yoga class on Sundays at 8am- This virtual class is a great introduction if you are new to any kind of movement or a staple if you are a veteran.  We also provide modification options for those in a chair or with injuries. \nWe look forward to seeing you!
URL:https://forte-wellbeing.com/activities/events-yoga-2/2030-07-21/
CATEGORIES:Classes,Yoga Classes
ATTACH;FMTTYPE=image/png:https://forte-wellbeing.com/wp-content/uploads/2023/10/Forte-Yoga-Class.png
LOCATION:https://us02web.zoom.us/j/89976519189
END:VEVENT
BEGIN:VEVENT
DTSTART;TZID=America/Phoenix:20300728T080000
DTEND;TZID=America/Phoenix:20300728T083000
DTSTAMP:20260425T103008
CREATED:20250306T184823Z
LAST-MODIFIED:20251111T181348Z
UID:10002605-1911456000-1911457800@forte-wellbeing.com
SUMMARY:Mild Stretch Yoga: Chair & Floor Options
DESCRIPTION:Join us for a great start to your week by joining us for a virtual gentle stretch and core building yoga class on Sundays at 8am- This virtual class is a great introduction if you are new to any kind of movement or a staple if you are a veteran.  We also provide modification options for those in a chair or with injuries. \nWe look forward to seeing you!
URL:https://forte-wellbeing.com/activities/events-yoga-2/2030-07-28/
CATEGORIES:Classes,Yoga Classes
ATTACH;FMTTYPE=image/png:https://forte-wellbeing.com/wp-content/uploads/2023/10/Forte-Yoga-Class.png
LOCATION:https://us02web.zoom.us/j/89976519189
END:VEVENT
BEGIN:VEVENT
DTSTART;TZID=America/Phoenix:20300804T080000
DTEND;TZID=America/Phoenix:20300804T083000
DTSTAMP:20260425T103008
CREATED:20250306T184823Z
LAST-MODIFIED:20251111T181348Z
UID:10002606-1912060800-1912062600@forte-wellbeing.com
SUMMARY:Mild Stretch Yoga: Chair & Floor Options
DESCRIPTION:Join us for a great start to your week by joining us for a virtual gentle stretch and core building yoga class on Sundays at 8am- This virtual class is a great introduction if you are new to any kind of movement or a staple if you are a veteran.  We also provide modification options for those in a chair or with injuries. \nWe look forward to seeing you!
URL:https://forte-wellbeing.com/activities/events-yoga-2/2030-08-04/
CATEGORIES:Classes,Yoga Classes
ATTACH;FMTTYPE=image/png:https://forte-wellbeing.com/wp-content/uploads/2023/10/Forte-Yoga-Class.png
LOCATION:https://us02web.zoom.us/j/89976519189
END:VEVENT
BEGIN:VEVENT
DTSTART;TZID=America/Phoenix:20300811T080000
DTEND;TZID=America/Phoenix:20300811T083000
DTSTAMP:20260425T103008
CREATED:20250306T184823Z
LAST-MODIFIED:20251111T181348Z
UID:10002607-1912665600-1912667400@forte-wellbeing.com
SUMMARY:Mild Stretch Yoga: Chair & Floor Options
DESCRIPTION:Join us for a great start to your week by joining us for a virtual gentle stretch and core building yoga class on Sundays at 8am- This virtual class is a great introduction if you are new to any kind of movement or a staple if you are a veteran.  We also provide modification options for those in a chair or with injuries. \nWe look forward to seeing you!
URL:https://forte-wellbeing.com/activities/events-yoga-2/2030-08-11/
CATEGORIES:Classes,Yoga Classes
ATTACH;FMTTYPE=image/png:https://forte-wellbeing.com/wp-content/uploads/2023/10/Forte-Yoga-Class.png
LOCATION:https://us02web.zoom.us/j/89976519189
END:VEVENT
BEGIN:VEVENT
DTSTART;TZID=America/Phoenix:20300818T080000
DTEND;TZID=America/Phoenix:20300818T083000
DTSTAMP:20260425T103008
CREATED:20250306T184823Z
LAST-MODIFIED:20251111T181348Z
UID:10002608-1913270400-1913272200@forte-wellbeing.com
SUMMARY:Mild Stretch Yoga: Chair & Floor Options
DESCRIPTION:Join us for a great start to your week by joining us for a virtual gentle stretch and core building yoga class on Sundays at 8am- This virtual class is a great introduction if you are new to any kind of movement or a staple if you are a veteran.  We also provide modification options for those in a chair or with injuries. \nWe look forward to seeing you!
URL:https://forte-wellbeing.com/activities/events-yoga-2/2030-08-18/
CATEGORIES:Classes,Yoga Classes
ATTACH;FMTTYPE=image/png:https://forte-wellbeing.com/wp-content/uploads/2023/10/Forte-Yoga-Class.png
LOCATION:https://us02web.zoom.us/j/89976519189
END:VEVENT
BEGIN:VEVENT
DTSTART;TZID=America/Phoenix:20300825T080000
DTEND;TZID=America/Phoenix:20300825T083000
DTSTAMP:20260425T103008
CREATED:20250306T184823Z
LAST-MODIFIED:20251111T181348Z
UID:10002609-1913875200-1913877000@forte-wellbeing.com
SUMMARY:Mild Stretch Yoga: Chair & Floor Options
DESCRIPTION:Join us for a great start to your week by joining us for a virtual gentle stretch and core building yoga class on Sundays at 8am- This virtual class is a great introduction if you are new to any kind of movement or a staple if you are a veteran.  We also provide modification options for those in a chair or with injuries. \nWe look forward to seeing you!
URL:https://forte-wellbeing.com/activities/events-yoga-2/2030-08-25/
CATEGORIES:Classes,Yoga Classes
ATTACH;FMTTYPE=image/png:https://forte-wellbeing.com/wp-content/uploads/2023/10/Forte-Yoga-Class.png
LOCATION:https://us02web.zoom.us/j/89976519189
END:VEVENT
BEGIN:VEVENT
DTSTART;TZID=America/Phoenix:20300901T080000
DTEND;TZID=America/Phoenix:20300901T083000
DTSTAMP:20260425T103008
CREATED:20250306T184823Z
LAST-MODIFIED:20251111T181348Z
UID:10002610-1914480000-1914481800@forte-wellbeing.com
SUMMARY:Mild Stretch Yoga: Chair & Floor Options
DESCRIPTION:Join us for a great start to your week by joining us for a virtual gentle stretch and core building yoga class on Sundays at 8am- This virtual class is a great introduction if you are new to any kind of movement or a staple if you are a veteran.  We also provide modification options for those in a chair or with injuries. \nWe look forward to seeing you!
URL:https://forte-wellbeing.com/activities/events-yoga-2/2030-09-01/
CATEGORIES:Classes,Yoga Classes
ATTACH;FMTTYPE=image/png:https://forte-wellbeing.com/wp-content/uploads/2023/10/Forte-Yoga-Class.png
LOCATION:https://us02web.zoom.us/j/89976519189
END:VEVENT
END:VCALENDAR