BEGIN:VCALENDAR
VERSION:2.0
PRODID:-//FORTE – WELL BEING - ECPv6.15.18//NONSGML v1.0//EN
CALSCALE:GREGORIAN
METHOD:PUBLISH
X-WR-CALNAME:FORTE – WELL BEING
X-ORIGINAL-URL:https://forte-wellbeing.com
X-WR-CALDESC:Events for FORTE – WELL BEING
REFRESH-INTERVAL;VALUE=DURATION:PT1H
X-Robots-Tag:noindex
X-PUBLISHED-TTL:PT1H
BEGIN:VTIMEZONE
TZID:America/Phoenix
BEGIN:STANDARD
TZOFFSETFROM:-0700
TZOFFSETTO:-0700
TZNAME:MST
DTSTART:20260101T000000
END:STANDARD
END:VTIMEZONE
BEGIN:VEVENT
DTSTART;TZID=America/Phoenix:20270805T080000
DTEND;TZID=America/Phoenix:20270805T083000
DTSTAMP:20260423T213531
CREATED:20250403T214721Z
LAST-MODIFIED:20250403T214721Z
UID:10001918-1817452800-1817454600@forte-wellbeing.com
SUMMARY:Forte - Lifestyle Program Group Session
DESCRIPTION:Forte’s Lifestyle Program brings members together for engaging group sessions focused on strengthening healthy habits. Each interactive meetup is a chance to connect\, share\, and explore new strategies for lasting wellness! A fresh topic is covered each week\, and you’re welcome to join any group session to learn\, grow\, and be part of the conversation. \nBefore each session\, a reminder email with a Zoom link will be sent. For assistance\, call (602) 529-5495.
URL:https://forte-wellbeing.com/activities/forte-lifestyle-program-group-session/2027-08-05/
LOCATION:Virtual
ORGANIZER;CN="Forte - Well Being":MAILTO:info@forte-wellbeing.com
END:VEVENT
BEGIN:VEVENT
DTSTART;TZID=America/Phoenix:20270812T080000
DTEND;TZID=America/Phoenix:20270812T083000
DTSTAMP:20260423T213531
CREATED:20250403T214721Z
LAST-MODIFIED:20250403T214721Z
UID:10001919-1818057600-1818059400@forte-wellbeing.com
SUMMARY:Forte - Lifestyle Program Group Session
DESCRIPTION:Forte’s Lifestyle Program brings members together for engaging group sessions focused on strengthening healthy habits. Each interactive meetup is a chance to connect\, share\, and explore new strategies for lasting wellness! A fresh topic is covered each week\, and you’re welcome to join any group session to learn\, grow\, and be part of the conversation. \nBefore each session\, a reminder email with a Zoom link will be sent. For assistance\, call (602) 529-5495.
URL:https://forte-wellbeing.com/activities/forte-lifestyle-program-group-session/2027-08-12/
LOCATION:Virtual
ORGANIZER;CN="Forte - Well Being":MAILTO:info@forte-wellbeing.com
END:VEVENT
BEGIN:VEVENT
DTSTART;TZID=America/Phoenix:20270819T080000
DTEND;TZID=America/Phoenix:20270819T083000
DTSTAMP:20260423T213531
CREATED:20250403T214721Z
LAST-MODIFIED:20250403T214721Z
UID:10001920-1818662400-1818664200@forte-wellbeing.com
SUMMARY:Forte - Lifestyle Program Group Session
DESCRIPTION:Forte’s Lifestyle Program brings members together for engaging group sessions focused on strengthening healthy habits. Each interactive meetup is a chance to connect\, share\, and explore new strategies for lasting wellness! A fresh topic is covered each week\, and you’re welcome to join any group session to learn\, grow\, and be part of the conversation. \nBefore each session\, a reminder email with a Zoom link will be sent. For assistance\, call (602) 529-5495.
URL:https://forte-wellbeing.com/activities/forte-lifestyle-program-group-session/2027-08-19/
LOCATION:Virtual
ORGANIZER;CN="Forte - Well Being":MAILTO:info@forte-wellbeing.com
END:VEVENT
BEGIN:VEVENT
DTSTART;TZID=America/Phoenix:20270826T080000
DTEND;TZID=America/Phoenix:20270826T083000
DTSTAMP:20260423T213531
CREATED:20250403T214721Z
LAST-MODIFIED:20250403T214721Z
UID:10001921-1819267200-1819269000@forte-wellbeing.com
SUMMARY:Forte - Lifestyle Program Group Session
DESCRIPTION:Forte’s Lifestyle Program brings members together for engaging group sessions focused on strengthening healthy habits. Each interactive meetup is a chance to connect\, share\, and explore new strategies for lasting wellness! A fresh topic is covered each week\, and you’re welcome to join any group session to learn\, grow\, and be part of the conversation. \nBefore each session\, a reminder email with a Zoom link will be sent. For assistance\, call (602) 529-5495.
URL:https://forte-wellbeing.com/activities/forte-lifestyle-program-group-session/2027-08-26/
LOCATION:Virtual
ORGANIZER;CN="Forte - Well Being":MAILTO:info@forte-wellbeing.com
END:VEVENT
BEGIN:VEVENT
DTSTART;TZID=America/Phoenix:20270902T080000
DTEND;TZID=America/Phoenix:20270902T083000
DTSTAMP:20260423T213531
CREATED:20250403T214721Z
LAST-MODIFIED:20250403T214721Z
UID:10001922-1819872000-1819873800@forte-wellbeing.com
SUMMARY:Forte - Lifestyle Program Group Session
DESCRIPTION:Forte’s Lifestyle Program brings members together for engaging group sessions focused on strengthening healthy habits. Each interactive meetup is a chance to connect\, share\, and explore new strategies for lasting wellness! A fresh topic is covered each week\, and you’re welcome to join any group session to learn\, grow\, and be part of the conversation. \nBefore each session\, a reminder email with a Zoom link will be sent. For assistance\, call (602) 529-5495.
URL:https://forte-wellbeing.com/activities/forte-lifestyle-program-group-session/2027-09-02/
LOCATION:Virtual
ORGANIZER;CN="Forte - Well Being":MAILTO:info@forte-wellbeing.com
END:VEVENT
BEGIN:VEVENT
DTSTART;TZID=America/Phoenix:20270909T080000
DTEND;TZID=America/Phoenix:20270909T083000
DTSTAMP:20260423T213531
CREATED:20250403T214721Z
LAST-MODIFIED:20250403T214721Z
UID:10001923-1820476800-1820478600@forte-wellbeing.com
SUMMARY:Forte - Lifestyle Program Group Session
DESCRIPTION:Forte’s Lifestyle Program brings members together for engaging group sessions focused on strengthening healthy habits. Each interactive meetup is a chance to connect\, share\, and explore new strategies for lasting wellness! A fresh topic is covered each week\, and you’re welcome to join any group session to learn\, grow\, and be part of the conversation. \nBefore each session\, a reminder email with a Zoom link will be sent. For assistance\, call (602) 529-5495.
URL:https://forte-wellbeing.com/activities/forte-lifestyle-program-group-session/2027-09-09/
LOCATION:Virtual
ORGANIZER;CN="Forte - Well Being":MAILTO:info@forte-wellbeing.com
END:VEVENT
BEGIN:VEVENT
DTSTART;TZID=America/Phoenix:20270916T080000
DTEND;TZID=America/Phoenix:20270916T083000
DTSTAMP:20260423T213531
CREATED:20250403T214721Z
LAST-MODIFIED:20250403T214721Z
UID:10001924-1821081600-1821083400@forte-wellbeing.com
SUMMARY:Forte - Lifestyle Program Group Session
DESCRIPTION:Forte’s Lifestyle Program brings members together for engaging group sessions focused on strengthening healthy habits. Each interactive meetup is a chance to connect\, share\, and explore new strategies for lasting wellness! A fresh topic is covered each week\, and you’re welcome to join any group session to learn\, grow\, and be part of the conversation. \nBefore each session\, a reminder email with a Zoom link will be sent. For assistance\, call (602) 529-5495.
URL:https://forte-wellbeing.com/activities/forte-lifestyle-program-group-session/2027-09-16/
LOCATION:Virtual
ORGANIZER;CN="Forte - Well Being":MAILTO:info@forte-wellbeing.com
END:VEVENT
BEGIN:VEVENT
DTSTART;TZID=America/Phoenix:20270923T080000
DTEND;TZID=America/Phoenix:20270923T083000
DTSTAMP:20260423T213531
CREATED:20250403T214721Z
LAST-MODIFIED:20250403T214721Z
UID:10001925-1821686400-1821688200@forte-wellbeing.com
SUMMARY:Forte - Lifestyle Program Group Session
DESCRIPTION:Forte’s Lifestyle Program brings members together for engaging group sessions focused on strengthening healthy habits. Each interactive meetup is a chance to connect\, share\, and explore new strategies for lasting wellness! A fresh topic is covered each week\, and you’re welcome to join any group session to learn\, grow\, and be part of the conversation. \nBefore each session\, a reminder email with a Zoom link will be sent. For assistance\, call (602) 529-5495.
URL:https://forte-wellbeing.com/activities/forte-lifestyle-program-group-session/2027-09-23/
LOCATION:Virtual
ORGANIZER;CN="Forte - Well Being":MAILTO:info@forte-wellbeing.com
END:VEVENT
BEGIN:VEVENT
DTSTART;TZID=America/Phoenix:20270930T080000
DTEND;TZID=America/Phoenix:20270930T083000
DTSTAMP:20260423T213531
CREATED:20250403T214721Z
LAST-MODIFIED:20250403T214721Z
UID:10001926-1822291200-1822293000@forte-wellbeing.com
SUMMARY:Forte - Lifestyle Program Group Session
DESCRIPTION:Forte’s Lifestyle Program brings members together for engaging group sessions focused on strengthening healthy habits. Each interactive meetup is a chance to connect\, share\, and explore new strategies for lasting wellness! A fresh topic is covered each week\, and you’re welcome to join any group session to learn\, grow\, and be part of the conversation. \nBefore each session\, a reminder email with a Zoom link will be sent. For assistance\, call (602) 529-5495.
URL:https://forte-wellbeing.com/activities/forte-lifestyle-program-group-session/2027-09-30/
LOCATION:Virtual
ORGANIZER;CN="Forte - Well Being":MAILTO:info@forte-wellbeing.com
END:VEVENT
BEGIN:VEVENT
DTSTART;TZID=America/Phoenix:20271007T080000
DTEND;TZID=America/Phoenix:20271007T083000
DTSTAMP:20260423T213531
CREATED:20250403T214721Z
LAST-MODIFIED:20250403T214721Z
UID:10001927-1822896000-1822897800@forte-wellbeing.com
SUMMARY:Forte - Lifestyle Program Group Session
DESCRIPTION:Forte’s Lifestyle Program brings members together for engaging group sessions focused on strengthening healthy habits. Each interactive meetup is a chance to connect\, share\, and explore new strategies for lasting wellness! A fresh topic is covered each week\, and you’re welcome to join any group session to learn\, grow\, and be part of the conversation. \nBefore each session\, a reminder email with a Zoom link will be sent. For assistance\, call (602) 529-5495.
URL:https://forte-wellbeing.com/activities/forte-lifestyle-program-group-session/2027-10-07/
LOCATION:Virtual
ORGANIZER;CN="Forte - Well Being":MAILTO:info@forte-wellbeing.com
END:VEVENT
BEGIN:VEVENT
DTSTART;TZID=America/Phoenix:20271014T080000
DTEND;TZID=America/Phoenix:20271014T083000
DTSTAMP:20260423T213531
CREATED:20250403T214721Z
LAST-MODIFIED:20250403T214721Z
UID:10001928-1823500800-1823502600@forte-wellbeing.com
SUMMARY:Forte - Lifestyle Program Group Session
DESCRIPTION:Forte’s Lifestyle Program brings members together for engaging group sessions focused on strengthening healthy habits. Each interactive meetup is a chance to connect\, share\, and explore new strategies for lasting wellness! A fresh topic is covered each week\, and you’re welcome to join any group session to learn\, grow\, and be part of the conversation. \nBefore each session\, a reminder email with a Zoom link will be sent. For assistance\, call (602) 529-5495.
URL:https://forte-wellbeing.com/activities/forte-lifestyle-program-group-session/2027-10-14/
LOCATION:Virtual
ORGANIZER;CN="Forte - Well Being":MAILTO:info@forte-wellbeing.com
END:VEVENT
BEGIN:VEVENT
DTSTART;TZID=America/Phoenix:20271021T080000
DTEND;TZID=America/Phoenix:20271021T083000
DTSTAMP:20260423T213531
CREATED:20250403T214721Z
LAST-MODIFIED:20250403T214721Z
UID:10001929-1824105600-1824107400@forte-wellbeing.com
SUMMARY:Forte - Lifestyle Program Group Session
DESCRIPTION:Forte’s Lifestyle Program brings members together for engaging group sessions focused on strengthening healthy habits. Each interactive meetup is a chance to connect\, share\, and explore new strategies for lasting wellness! A fresh topic is covered each week\, and you’re welcome to join any group session to learn\, grow\, and be part of the conversation. \nBefore each session\, a reminder email with a Zoom link will be sent. For assistance\, call (602) 529-5495.
URL:https://forte-wellbeing.com/activities/forte-lifestyle-program-group-session/2027-10-21/
LOCATION:Virtual
ORGANIZER;CN="Forte - Well Being":MAILTO:info@forte-wellbeing.com
END:VEVENT
BEGIN:VEVENT
DTSTART;TZID=America/Phoenix:20271028T080000
DTEND;TZID=America/Phoenix:20271028T083000
DTSTAMP:20260423T213531
CREATED:20250403T214721Z
LAST-MODIFIED:20250403T214721Z
UID:10001930-1824710400-1824712200@forte-wellbeing.com
SUMMARY:Forte - Lifestyle Program Group Session
DESCRIPTION:Forte’s Lifestyle Program brings members together for engaging group sessions focused on strengthening healthy habits. Each interactive meetup is a chance to connect\, share\, and explore new strategies for lasting wellness! A fresh topic is covered each week\, and you’re welcome to join any group session to learn\, grow\, and be part of the conversation. \nBefore each session\, a reminder email with a Zoom link will be sent. For assistance\, call (602) 529-5495.
URL:https://forte-wellbeing.com/activities/forte-lifestyle-program-group-session/2027-10-28/
LOCATION:Virtual
ORGANIZER;CN="Forte - Well Being":MAILTO:info@forte-wellbeing.com
END:VEVENT
BEGIN:VEVENT
DTSTART;TZID=America/Phoenix:20271104T080000
DTEND;TZID=America/Phoenix:20271104T083000
DTSTAMP:20260423T213531
CREATED:20250403T214721Z
LAST-MODIFIED:20250403T214721Z
UID:10001931-1825315200-1825317000@forte-wellbeing.com
SUMMARY:Forte - Lifestyle Program Group Session
DESCRIPTION:Forte’s Lifestyle Program brings members together for engaging group sessions focused on strengthening healthy habits. Each interactive meetup is a chance to connect\, share\, and explore new strategies for lasting wellness! A fresh topic is covered each week\, and you’re welcome to join any group session to learn\, grow\, and be part of the conversation. \nBefore each session\, a reminder email with a Zoom link will be sent. For assistance\, call (602) 529-5495.
URL:https://forte-wellbeing.com/activities/forte-lifestyle-program-group-session/2027-11-04/
LOCATION:Virtual
ORGANIZER;CN="Forte - Well Being":MAILTO:info@forte-wellbeing.com
END:VEVENT
BEGIN:VEVENT
DTSTART;TZID=America/Phoenix:20271111T080000
DTEND;TZID=America/Phoenix:20271111T083000
DTSTAMP:20260423T213531
CREATED:20250403T214721Z
LAST-MODIFIED:20250403T214721Z
UID:10001932-1825920000-1825921800@forte-wellbeing.com
SUMMARY:Forte - Lifestyle Program Group Session
DESCRIPTION:Forte’s Lifestyle Program brings members together for engaging group sessions focused on strengthening healthy habits. Each interactive meetup is a chance to connect\, share\, and explore new strategies for lasting wellness! A fresh topic is covered each week\, and you’re welcome to join any group session to learn\, grow\, and be part of the conversation. \nBefore each session\, a reminder email with a Zoom link will be sent. For assistance\, call (602) 529-5495.
URL:https://forte-wellbeing.com/activities/forte-lifestyle-program-group-session/2027-11-11/
LOCATION:Virtual
ORGANIZER;CN="Forte - Well Being":MAILTO:info@forte-wellbeing.com
END:VEVENT
BEGIN:VEVENT
DTSTART;TZID=America/Phoenix:20271118T080000
DTEND;TZID=America/Phoenix:20271118T083000
DTSTAMP:20260423T213531
CREATED:20250403T214721Z
LAST-MODIFIED:20250403T214721Z
UID:10001933-1826524800-1826526600@forte-wellbeing.com
SUMMARY:Forte - Lifestyle Program Group Session
DESCRIPTION:Forte’s Lifestyle Program brings members together for engaging group sessions focused on strengthening healthy habits. Each interactive meetup is a chance to connect\, share\, and explore new strategies for lasting wellness! A fresh topic is covered each week\, and you’re welcome to join any group session to learn\, grow\, and be part of the conversation. \nBefore each session\, a reminder email with a Zoom link will be sent. For assistance\, call (602) 529-5495.
URL:https://forte-wellbeing.com/activities/forte-lifestyle-program-group-session/2027-11-18/
LOCATION:Virtual
ORGANIZER;CN="Forte - Well Being":MAILTO:info@forte-wellbeing.com
END:VEVENT
BEGIN:VEVENT
DTSTART;TZID=America/Phoenix:20271125T080000
DTEND;TZID=America/Phoenix:20271125T083000
DTSTAMP:20260423T213531
CREATED:20250403T214721Z
LAST-MODIFIED:20250403T214721Z
UID:10001934-1827129600-1827131400@forte-wellbeing.com
SUMMARY:Forte - Lifestyle Program Group Session
DESCRIPTION:Forte’s Lifestyle Program brings members together for engaging group sessions focused on strengthening healthy habits. Each interactive meetup is a chance to connect\, share\, and explore new strategies for lasting wellness! A fresh topic is covered each week\, and you’re welcome to join any group session to learn\, grow\, and be part of the conversation. \nBefore each session\, a reminder email with a Zoom link will be sent. For assistance\, call (602) 529-5495.
URL:https://forte-wellbeing.com/activities/forte-lifestyle-program-group-session/2027-11-25/
LOCATION:Virtual
ORGANIZER;CN="Forte - Well Being":MAILTO:info@forte-wellbeing.com
END:VEVENT
BEGIN:VEVENT
DTSTART;TZID=America/Phoenix:20271202T080000
DTEND;TZID=America/Phoenix:20271202T083000
DTSTAMP:20260423T213531
CREATED:20250403T214721Z
LAST-MODIFIED:20250403T214721Z
UID:10001935-1827734400-1827736200@forte-wellbeing.com
SUMMARY:Forte - Lifestyle Program Group Session
DESCRIPTION:Forte’s Lifestyle Program brings members together for engaging group sessions focused on strengthening healthy habits. Each interactive meetup is a chance to connect\, share\, and explore new strategies for lasting wellness! A fresh topic is covered each week\, and you’re welcome to join any group session to learn\, grow\, and be part of the conversation. \nBefore each session\, a reminder email with a Zoom link will be sent. For assistance\, call (602) 529-5495.
URL:https://forte-wellbeing.com/activities/forte-lifestyle-program-group-session/2027-12-02/
LOCATION:Virtual
ORGANIZER;CN="Forte - Well Being":MAILTO:info@forte-wellbeing.com
END:VEVENT
BEGIN:VEVENT
DTSTART;TZID=America/Phoenix:20271209T080000
DTEND;TZID=America/Phoenix:20271209T083000
DTSTAMP:20260423T213531
CREATED:20250403T214721Z
LAST-MODIFIED:20250403T214721Z
UID:10001936-1828339200-1828341000@forte-wellbeing.com
SUMMARY:Forte - Lifestyle Program Group Session
DESCRIPTION:Forte’s Lifestyle Program brings members together for engaging group sessions focused on strengthening healthy habits. Each interactive meetup is a chance to connect\, share\, and explore new strategies for lasting wellness! A fresh topic is covered each week\, and you’re welcome to join any group session to learn\, grow\, and be part of the conversation. \nBefore each session\, a reminder email with a Zoom link will be sent. For assistance\, call (602) 529-5495.
URL:https://forte-wellbeing.com/activities/forte-lifestyle-program-group-session/2027-12-09/
LOCATION:Virtual
ORGANIZER;CN="Forte - Well Being":MAILTO:info@forte-wellbeing.com
END:VEVENT
BEGIN:VEVENT
DTSTART;TZID=America/Phoenix:20271216T080000
DTEND;TZID=America/Phoenix:20271216T083000
DTSTAMP:20260423T213531
CREATED:20250403T214721Z
LAST-MODIFIED:20250403T214721Z
UID:10001937-1828944000-1828945800@forte-wellbeing.com
SUMMARY:Forte - Lifestyle Program Group Session
DESCRIPTION:Forte’s Lifestyle Program brings members together for engaging group sessions focused on strengthening healthy habits. Each interactive meetup is a chance to connect\, share\, and explore new strategies for lasting wellness! A fresh topic is covered each week\, and you’re welcome to join any group session to learn\, grow\, and be part of the conversation. \nBefore each session\, a reminder email with a Zoom link will be sent. For assistance\, call (602) 529-5495.
URL:https://forte-wellbeing.com/activities/forte-lifestyle-program-group-session/2027-12-16/
LOCATION:Virtual
ORGANIZER;CN="Forte - Well Being":MAILTO:info@forte-wellbeing.com
END:VEVENT
BEGIN:VEVENT
DTSTART;TZID=America/Phoenix:20271223T080000
DTEND;TZID=America/Phoenix:20271223T083000
DTSTAMP:20260423T213531
CREATED:20250403T214721Z
LAST-MODIFIED:20250403T214721Z
UID:10001938-1829548800-1829550600@forte-wellbeing.com
SUMMARY:Forte - Lifestyle Program Group Session
DESCRIPTION:Forte’s Lifestyle Program brings members together for engaging group sessions focused on strengthening healthy habits. Each interactive meetup is a chance to connect\, share\, and explore new strategies for lasting wellness! A fresh topic is covered each week\, and you’re welcome to join any group session to learn\, grow\, and be part of the conversation. \nBefore each session\, a reminder email with a Zoom link will be sent. For assistance\, call (602) 529-5495.
URL:https://forte-wellbeing.com/activities/forte-lifestyle-program-group-session/2027-12-23/
LOCATION:Virtual
ORGANIZER;CN="Forte - Well Being":MAILTO:info@forte-wellbeing.com
END:VEVENT
BEGIN:VEVENT
DTSTART;TZID=America/Phoenix:20271230T080000
DTEND;TZID=America/Phoenix:20271230T083000
DTSTAMP:20260423T213531
CREATED:20250403T214721Z
LAST-MODIFIED:20250403T214721Z
UID:10001939-1830153600-1830155400@forte-wellbeing.com
SUMMARY:Forte - Lifestyle Program Group Session
DESCRIPTION:Forte’s Lifestyle Program brings members together for engaging group sessions focused on strengthening healthy habits. Each interactive meetup is a chance to connect\, share\, and explore new strategies for lasting wellness! A fresh topic is covered each week\, and you’re welcome to join any group session to learn\, grow\, and be part of the conversation. \nBefore each session\, a reminder email with a Zoom link will be sent. For assistance\, call (602) 529-5495.
URL:https://forte-wellbeing.com/activities/forte-lifestyle-program-group-session/2027-12-30/
LOCATION:Virtual
ORGANIZER;CN="Forte - Well Being":MAILTO:info@forte-wellbeing.com
END:VEVENT
BEGIN:VEVENT
DTSTART;TZID=America/Phoenix:20280106T080000
DTEND;TZID=America/Phoenix:20280106T083000
DTSTAMP:20260423T213531
CREATED:20250403T214721Z
LAST-MODIFIED:20250403T214721Z
UID:10001940-1830758400-1830760200@forte-wellbeing.com
SUMMARY:Forte - Lifestyle Program Group Session
DESCRIPTION:Forte’s Lifestyle Program brings members together for engaging group sessions focused on strengthening healthy habits. Each interactive meetup is a chance to connect\, share\, and explore new strategies for lasting wellness! A fresh topic is covered each week\, and you’re welcome to join any group session to learn\, grow\, and be part of the conversation. \nBefore each session\, a reminder email with a Zoom link will be sent. For assistance\, call (602) 529-5495.
URL:https://forte-wellbeing.com/activities/forte-lifestyle-program-group-session/2028-01-06/
LOCATION:Virtual
ORGANIZER;CN="Forte - Well Being":MAILTO:info@forte-wellbeing.com
END:VEVENT
BEGIN:VEVENT
DTSTART;TZID=America/Phoenix:20280113T080000
DTEND;TZID=America/Phoenix:20280113T083000
DTSTAMP:20260423T213531
CREATED:20250403T214721Z
LAST-MODIFIED:20250403T214721Z
UID:10001941-1831363200-1831365000@forte-wellbeing.com
SUMMARY:Forte - Lifestyle Program Group Session
DESCRIPTION:Forte’s Lifestyle Program brings members together for engaging group sessions focused on strengthening healthy habits. Each interactive meetup is a chance to connect\, share\, and explore new strategies for lasting wellness! A fresh topic is covered each week\, and you’re welcome to join any group session to learn\, grow\, and be part of the conversation. \nBefore each session\, a reminder email with a Zoom link will be sent. For assistance\, call (602) 529-5495.
URL:https://forte-wellbeing.com/activities/forte-lifestyle-program-group-session/2028-01-13/
LOCATION:Virtual
ORGANIZER;CN="Forte - Well Being":MAILTO:info@forte-wellbeing.com
END:VEVENT
BEGIN:VEVENT
DTSTART;TZID=America/Phoenix:20280120T080000
DTEND;TZID=America/Phoenix:20280120T083000
DTSTAMP:20260423T213531
CREATED:20250403T214721Z
LAST-MODIFIED:20250403T214721Z
UID:10001942-1831968000-1831969800@forte-wellbeing.com
SUMMARY:Forte - Lifestyle Program Group Session
DESCRIPTION:Forte’s Lifestyle Program brings members together for engaging group sessions focused on strengthening healthy habits. Each interactive meetup is a chance to connect\, share\, and explore new strategies for lasting wellness! A fresh topic is covered each week\, and you’re welcome to join any group session to learn\, grow\, and be part of the conversation. \nBefore each session\, a reminder email with a Zoom link will be sent. For assistance\, call (602) 529-5495.
URL:https://forte-wellbeing.com/activities/forte-lifestyle-program-group-session/2028-01-20/
LOCATION:Virtual
ORGANIZER;CN="Forte - Well Being":MAILTO:info@forte-wellbeing.com
END:VEVENT
BEGIN:VEVENT
DTSTART;TZID=America/Phoenix:20280127T080000
DTEND;TZID=America/Phoenix:20280127T083000
DTSTAMP:20260423T213531
CREATED:20250403T214721Z
LAST-MODIFIED:20250403T214721Z
UID:10001943-1832572800-1832574600@forte-wellbeing.com
SUMMARY:Forte - Lifestyle Program Group Session
DESCRIPTION:Forte’s Lifestyle Program brings members together for engaging group sessions focused on strengthening healthy habits. Each interactive meetup is a chance to connect\, share\, and explore new strategies for lasting wellness! A fresh topic is covered each week\, and you’re welcome to join any group session to learn\, grow\, and be part of the conversation. \nBefore each session\, a reminder email with a Zoom link will be sent. For assistance\, call (602) 529-5495.
URL:https://forte-wellbeing.com/activities/forte-lifestyle-program-group-session/2028-01-27/
LOCATION:Virtual
ORGANIZER;CN="Forte - Well Being":MAILTO:info@forte-wellbeing.com
END:VEVENT
BEGIN:VEVENT
DTSTART;TZID=America/Phoenix:20280203T080000
DTEND;TZID=America/Phoenix:20280203T083000
DTSTAMP:20260423T213531
CREATED:20250403T214721Z
LAST-MODIFIED:20250403T214721Z
UID:10001944-1833177600-1833179400@forte-wellbeing.com
SUMMARY:Forte - Lifestyle Program Group Session
DESCRIPTION:Forte’s Lifestyle Program brings members together for engaging group sessions focused on strengthening healthy habits. Each interactive meetup is a chance to connect\, share\, and explore new strategies for lasting wellness! A fresh topic is covered each week\, and you’re welcome to join any group session to learn\, grow\, and be part of the conversation. \nBefore each session\, a reminder email with a Zoom link will be sent. For assistance\, call (602) 529-5495.
URL:https://forte-wellbeing.com/activities/forte-lifestyle-program-group-session/2028-02-03/
LOCATION:Virtual
ORGANIZER;CN="Forte - Well Being":MAILTO:info@forte-wellbeing.com
END:VEVENT
BEGIN:VEVENT
DTSTART;TZID=America/Phoenix:20280210T080000
DTEND;TZID=America/Phoenix:20280210T083000
DTSTAMP:20260423T213531
CREATED:20250403T214721Z
LAST-MODIFIED:20250403T214721Z
UID:10001945-1833782400-1833784200@forte-wellbeing.com
SUMMARY:Forte - Lifestyle Program Group Session
DESCRIPTION:Forte’s Lifestyle Program brings members together for engaging group sessions focused on strengthening healthy habits. Each interactive meetup is a chance to connect\, share\, and explore new strategies for lasting wellness! A fresh topic is covered each week\, and you’re welcome to join any group session to learn\, grow\, and be part of the conversation. \nBefore each session\, a reminder email with a Zoom link will be sent. For assistance\, call (602) 529-5495.
URL:https://forte-wellbeing.com/activities/forte-lifestyle-program-group-session/2028-02-10/
LOCATION:Virtual
ORGANIZER;CN="Forte - Well Being":MAILTO:info@forte-wellbeing.com
END:VEVENT
BEGIN:VEVENT
DTSTART;TZID=America/Phoenix:20280217T080000
DTEND;TZID=America/Phoenix:20280217T083000
DTSTAMP:20260423T213531
CREATED:20250403T214721Z
LAST-MODIFIED:20250403T214721Z
UID:10001946-1834387200-1834389000@forte-wellbeing.com
SUMMARY:Forte - Lifestyle Program Group Session
DESCRIPTION:Forte’s Lifestyle Program brings members together for engaging group sessions focused on strengthening healthy habits. Each interactive meetup is a chance to connect\, share\, and explore new strategies for lasting wellness! A fresh topic is covered each week\, and you’re welcome to join any group session to learn\, grow\, and be part of the conversation. \nBefore each session\, a reminder email with a Zoom link will be sent. For assistance\, call (602) 529-5495.
URL:https://forte-wellbeing.com/activities/forte-lifestyle-program-group-session/2028-02-17/
LOCATION:Virtual
ORGANIZER;CN="Forte - Well Being":MAILTO:info@forte-wellbeing.com
END:VEVENT
BEGIN:VEVENT
DTSTART;TZID=America/Phoenix:20280224T080000
DTEND;TZID=America/Phoenix:20280224T083000
DTSTAMP:20260423T213531
CREATED:20250403T214721Z
LAST-MODIFIED:20250403T214721Z
UID:10001947-1834992000-1834993800@forte-wellbeing.com
SUMMARY:Forte - Lifestyle Program Group Session
DESCRIPTION:Forte’s Lifestyle Program brings members together for engaging group sessions focused on strengthening healthy habits. Each interactive meetup is a chance to connect\, share\, and explore new strategies for lasting wellness! A fresh topic is covered each week\, and you’re welcome to join any group session to learn\, grow\, and be part of the conversation. \nBefore each session\, a reminder email with a Zoom link will be sent. For assistance\, call (602) 529-5495.
URL:https://forte-wellbeing.com/activities/forte-lifestyle-program-group-session/2028-02-24/
LOCATION:Virtual
ORGANIZER;CN="Forte - Well Being":MAILTO:info@forte-wellbeing.com
END:VEVENT
END:VCALENDAR