BEGIN:VCALENDAR
VERSION:2.0
PRODID:-//FORTE – WELL BEING - ECPv6.15.18//NONSGML v1.0//EN
CALSCALE:GREGORIAN
METHOD:PUBLISH
X-WR-CALNAME:FORTE – WELL BEING
X-ORIGINAL-URL:https://forte-wellbeing.com
X-WR-CALDESC:Events for FORTE – WELL BEING
REFRESH-INTERVAL;VALUE=DURATION:PT1H
X-Robots-Tag:noindex
X-PUBLISHED-TTL:PT1H
BEGIN:VTIMEZONE
TZID:America/Phoenix
BEGIN:STANDARD
TZOFFSETFROM:-0700
TZOFFSETTO:-0700
TZNAME:MST
DTSTART:20250101T000000
END:STANDARD
END:VTIMEZONE
BEGIN:VEVENT
DTSTART;TZID=America/Phoenix:20261029T080000
DTEND;TZID=America/Phoenix:20261029T083000
DTSTAMP:20260425T041548
CREATED:20250403T214721Z
LAST-MODIFIED:20250403T214721Z
UID:10001878-1793260800-1793262600@forte-wellbeing.com
SUMMARY:Forte - Lifestyle Program Group Session
DESCRIPTION:Forte’s Lifestyle Program brings members together for engaging group sessions focused on strengthening healthy habits. Each interactive meetup is a chance to connect\, share\, and explore new strategies for lasting wellness! A fresh topic is covered each week\, and you’re welcome to join any group session to learn\, grow\, and be part of the conversation. \nBefore each session\, a reminder email with a Zoom link will be sent. For assistance\, call (602) 529-5495.
URL:https://forte-wellbeing.com/activities/forte-lifestyle-program-group-session/2026-10-29/
LOCATION:Virtual
ORGANIZER;CN="Forte - Well Being":MAILTO:info@forte-wellbeing.com
END:VEVENT
BEGIN:VEVENT
DTSTART;TZID=America/Phoenix:20261030T090000
DTEND;TZID=America/Phoenix:20261030T093000
DTSTAMP:20260425T041548
CREATED:20250501T170539Z
LAST-MODIFIED:20250501T170540Z
UID:10002396-1793350800-1793352600@forte-wellbeing.com
SUMMARY:Forte Program Member Movement Class
DESCRIPTION:For members of our lifestyle program\, Jodi leads a weekly exercise class and routine.  Reach out to us to learn more.
URL:https://forte-wellbeing.com/activities/forte-program-member-movement-class-2/2026-10-30/
LOCATION:Virtual
CATEGORIES:Movement Classes
ATTACH;FMTTYPE=image/jpeg:https://forte-wellbeing.com/wp-content/uploads/2021/04/2-older-women-in-studio52553797-1-300x200-1.jpg
ORGANIZER;CN="Forte - Well Being":MAILTO:info@forte-wellbeing.com
END:VEVENT
BEGIN:VEVENT
DTSTART;TZID=America/Phoenix:20261102T120000
DTEND;TZID=America/Phoenix:20261102T123000
DTSTAMP:20260425T041548
CREATED:20250403T215149Z
LAST-MODIFIED:20250403T215149Z
UID:10002139-1793620800-1793622600@forte-wellbeing.com
SUMMARY:Forte - Lifestyle Program Group Session
DESCRIPTION:Forte’s Lifestyle Program brings members together for engaging group sessions focused on strengthening healthy habits. Each interactive meetup is a chance to connect\, share\, and explore new strategies for lasting wellness! A fresh topic is covered each week\, and you’re welcome to join any group session to learn\, grow\, and be part of the conversation. \nBefore each session\, a reminder email with a Zoom link will be sent. For assistance\, call (602) 529-5495.
URL:https://forte-wellbeing.com/activities/forte-lifestyle-program-group-session-2/2026-11-02/
LOCATION:Virtual
ORGANIZER;CN="Forte - Well Being":MAILTO:info@forte-wellbeing.com
END:VEVENT
BEGIN:VEVENT
DTSTART;TZID=America/Phoenix:20261104T163000
DTEND;TZID=America/Phoenix:20261104T173000
DTSTAMP:20260425T041548
CREATED:20250324T232620Z
LAST-MODIFIED:20250403T213020Z
UID:10001617-1793809800-1793813400@forte-wellbeing.com
SUMMARY:Forte - Lifestyle Program Group Session
DESCRIPTION:Forte’s Lifestyle Program brings members together for engaging group sessions focused on strengthening healthy habits. Each interactive meetup is a chance to connect\, share\, and explore new strategies for lasting wellness! A fresh topic is covered each week\, and you’re welcome to join any group session to learn\, grow\, and be part of the conversation. \nBefore each session\, a reminder email with a Zoom link will be sent. For assistance\, call (602) 529-5495.
URL:https://forte-wellbeing.com/activities/forte-lifestyle-program-2/2026-11-04/
LOCATION:Virtual
CATEGORIES:Lifestyle Program Group
ORGANIZER;CN="Forte - Well Being":MAILTO:info@forte-wellbeing.com
END:VEVENT
BEGIN:VEVENT
DTSTART;TZID=America/Phoenix:20261105T080000
DTEND;TZID=America/Phoenix:20261105T083000
DTSTAMP:20260425T041548
CREATED:20250403T214721Z
LAST-MODIFIED:20250403T214721Z
UID:10001879-1793865600-1793867400@forte-wellbeing.com
SUMMARY:Forte - Lifestyle Program Group Session
DESCRIPTION:Forte’s Lifestyle Program brings members together for engaging group sessions focused on strengthening healthy habits. Each interactive meetup is a chance to connect\, share\, and explore new strategies for lasting wellness! A fresh topic is covered each week\, and you’re welcome to join any group session to learn\, grow\, and be part of the conversation. \nBefore each session\, a reminder email with a Zoom link will be sent. For assistance\, call (602) 529-5495.
URL:https://forte-wellbeing.com/activities/forte-lifestyle-program-group-session/2026-11-05/
LOCATION:Virtual
ORGANIZER;CN="Forte - Well Being":MAILTO:info@forte-wellbeing.com
END:VEVENT
BEGIN:VEVENT
DTSTART;TZID=America/Phoenix:20261106T090000
DTEND;TZID=America/Phoenix:20261106T093000
DTSTAMP:20260425T041548
CREATED:20250501T170539Z
LAST-MODIFIED:20250501T170540Z
UID:10002397-1793955600-1793957400@forte-wellbeing.com
SUMMARY:Forte Program Member Movement Class
DESCRIPTION:For members of our lifestyle program\, Jodi leads a weekly exercise class and routine.  Reach out to us to learn more.
URL:https://forte-wellbeing.com/activities/forte-program-member-movement-class-2/2026-11-06/
LOCATION:Virtual
CATEGORIES:Movement Classes
ATTACH;FMTTYPE=image/jpeg:https://forte-wellbeing.com/wp-content/uploads/2021/04/2-older-women-in-studio52553797-1-300x200-1.jpg
ORGANIZER;CN="Forte - Well Being":MAILTO:info@forte-wellbeing.com
END:VEVENT
BEGIN:VEVENT
DTSTART;TZID=America/Phoenix:20261109T120000
DTEND;TZID=America/Phoenix:20261109T123000
DTSTAMP:20260425T041548
CREATED:20250403T215149Z
LAST-MODIFIED:20250403T215149Z
UID:10002140-1794225600-1794227400@forte-wellbeing.com
SUMMARY:Forte - Lifestyle Program Group Session
DESCRIPTION:Forte’s Lifestyle Program brings members together for engaging group sessions focused on strengthening healthy habits. Each interactive meetup is a chance to connect\, share\, and explore new strategies for lasting wellness! A fresh topic is covered each week\, and you’re welcome to join any group session to learn\, grow\, and be part of the conversation. \nBefore each session\, a reminder email with a Zoom link will be sent. For assistance\, call (602) 529-5495.
URL:https://forte-wellbeing.com/activities/forte-lifestyle-program-group-session-2/2026-11-09/
LOCATION:Virtual
ORGANIZER;CN="Forte - Well Being":MAILTO:info@forte-wellbeing.com
END:VEVENT
BEGIN:VEVENT
DTSTART;TZID=America/Phoenix:20261111T163000
DTEND;TZID=America/Phoenix:20261111T173000
DTSTAMP:20260425T041548
CREATED:20250324T232620Z
LAST-MODIFIED:20250403T213020Z
UID:10001618-1794414600-1794418200@forte-wellbeing.com
SUMMARY:Forte - Lifestyle Program Group Session
DESCRIPTION:Forte’s Lifestyle Program brings members together for engaging group sessions focused on strengthening healthy habits. Each interactive meetup is a chance to connect\, share\, and explore new strategies for lasting wellness! A fresh topic is covered each week\, and you’re welcome to join any group session to learn\, grow\, and be part of the conversation. \nBefore each session\, a reminder email with a Zoom link will be sent. For assistance\, call (602) 529-5495.
URL:https://forte-wellbeing.com/activities/forte-lifestyle-program-2/2026-11-11/
LOCATION:Virtual
CATEGORIES:Lifestyle Program Group
ORGANIZER;CN="Forte - Well Being":MAILTO:info@forte-wellbeing.com
END:VEVENT
BEGIN:VEVENT
DTSTART;TZID=America/Phoenix:20261112T080000
DTEND;TZID=America/Phoenix:20261112T083000
DTSTAMP:20260425T041548
CREATED:20250403T214721Z
LAST-MODIFIED:20250403T214721Z
UID:10001880-1794470400-1794472200@forte-wellbeing.com
SUMMARY:Forte - Lifestyle Program Group Session
DESCRIPTION:Forte’s Lifestyle Program brings members together for engaging group sessions focused on strengthening healthy habits. Each interactive meetup is a chance to connect\, share\, and explore new strategies for lasting wellness! A fresh topic is covered each week\, and you’re welcome to join any group session to learn\, grow\, and be part of the conversation. \nBefore each session\, a reminder email with a Zoom link will be sent. For assistance\, call (602) 529-5495.
URL:https://forte-wellbeing.com/activities/forte-lifestyle-program-group-session/2026-11-12/
LOCATION:Virtual
ORGANIZER;CN="Forte - Well Being":MAILTO:info@forte-wellbeing.com
END:VEVENT
BEGIN:VEVENT
DTSTART;TZID=America/Phoenix:20261113T090000
DTEND;TZID=America/Phoenix:20261113T093000
DTSTAMP:20260425T041548
CREATED:20250501T170539Z
LAST-MODIFIED:20250501T170540Z
UID:10002398-1794560400-1794562200@forte-wellbeing.com
SUMMARY:Forte Program Member Movement Class
DESCRIPTION:For members of our lifestyle program\, Jodi leads a weekly exercise class and routine.  Reach out to us to learn more.
URL:https://forte-wellbeing.com/activities/forte-program-member-movement-class-2/2026-11-13/
LOCATION:Virtual
CATEGORIES:Movement Classes
ATTACH;FMTTYPE=image/jpeg:https://forte-wellbeing.com/wp-content/uploads/2021/04/2-older-women-in-studio52553797-1-300x200-1.jpg
ORGANIZER;CN="Forte - Well Being":MAILTO:info@forte-wellbeing.com
END:VEVENT
BEGIN:VEVENT
DTSTART;TZID=America/Phoenix:20261116T120000
DTEND;TZID=America/Phoenix:20261116T123000
DTSTAMP:20260425T041548
CREATED:20250403T215149Z
LAST-MODIFIED:20250403T215149Z
UID:10002141-1794830400-1794832200@forte-wellbeing.com
SUMMARY:Forte - Lifestyle Program Group Session
DESCRIPTION:Forte’s Lifestyle Program brings members together for engaging group sessions focused on strengthening healthy habits. Each interactive meetup is a chance to connect\, share\, and explore new strategies for lasting wellness! A fresh topic is covered each week\, and you’re welcome to join any group session to learn\, grow\, and be part of the conversation. \nBefore each session\, a reminder email with a Zoom link will be sent. For assistance\, call (602) 529-5495.
URL:https://forte-wellbeing.com/activities/forte-lifestyle-program-group-session-2/2026-11-16/
LOCATION:Virtual
ORGANIZER;CN="Forte - Well Being":MAILTO:info@forte-wellbeing.com
END:VEVENT
BEGIN:VEVENT
DTSTART;TZID=America/Phoenix:20261118T163000
DTEND;TZID=America/Phoenix:20261118T173000
DTSTAMP:20260425T041548
CREATED:20250324T232620Z
LAST-MODIFIED:20250403T213020Z
UID:10001619-1795019400-1795023000@forte-wellbeing.com
SUMMARY:Forte - Lifestyle Program Group Session
DESCRIPTION:Forte’s Lifestyle Program brings members together for engaging group sessions focused on strengthening healthy habits. Each interactive meetup is a chance to connect\, share\, and explore new strategies for lasting wellness! A fresh topic is covered each week\, and you’re welcome to join any group session to learn\, grow\, and be part of the conversation. \nBefore each session\, a reminder email with a Zoom link will be sent. For assistance\, call (602) 529-5495.
URL:https://forte-wellbeing.com/activities/forte-lifestyle-program-2/2026-11-18/
LOCATION:Virtual
CATEGORIES:Lifestyle Program Group
ORGANIZER;CN="Forte - Well Being":MAILTO:info@forte-wellbeing.com
END:VEVENT
BEGIN:VEVENT
DTSTART;TZID=America/Phoenix:20261119T080000
DTEND;TZID=America/Phoenix:20261119T083000
DTSTAMP:20260425T041548
CREATED:20250403T214721Z
LAST-MODIFIED:20250403T214721Z
UID:10001881-1795075200-1795077000@forte-wellbeing.com
SUMMARY:Forte - Lifestyle Program Group Session
DESCRIPTION:Forte’s Lifestyle Program brings members together for engaging group sessions focused on strengthening healthy habits. Each interactive meetup is a chance to connect\, share\, and explore new strategies for lasting wellness! A fresh topic is covered each week\, and you’re welcome to join any group session to learn\, grow\, and be part of the conversation. \nBefore each session\, a reminder email with a Zoom link will be sent. For assistance\, call (602) 529-5495.
URL:https://forte-wellbeing.com/activities/forte-lifestyle-program-group-session/2026-11-19/
LOCATION:Virtual
ORGANIZER;CN="Forte - Well Being":MAILTO:info@forte-wellbeing.com
END:VEVENT
BEGIN:VEVENT
DTSTART;TZID=America/Phoenix:20261120T090000
DTEND;TZID=America/Phoenix:20261120T093000
DTSTAMP:20260425T041548
CREATED:20250501T170539Z
LAST-MODIFIED:20250501T170540Z
UID:10002399-1795165200-1795167000@forte-wellbeing.com
SUMMARY:Forte Program Member Movement Class
DESCRIPTION:For members of our lifestyle program\, Jodi leads a weekly exercise class and routine.  Reach out to us to learn more.
URL:https://forte-wellbeing.com/activities/forte-program-member-movement-class-2/2026-11-20/
LOCATION:Virtual
CATEGORIES:Movement Classes
ATTACH;FMTTYPE=image/jpeg:https://forte-wellbeing.com/wp-content/uploads/2021/04/2-older-women-in-studio52553797-1-300x200-1.jpg
ORGANIZER;CN="Forte - Well Being":MAILTO:info@forte-wellbeing.com
END:VEVENT
BEGIN:VEVENT
DTSTART;TZID=America/Phoenix:20261123T120000
DTEND;TZID=America/Phoenix:20261123T123000
DTSTAMP:20260425T041548
CREATED:20250403T215149Z
LAST-MODIFIED:20250403T215149Z
UID:10002142-1795435200-1795437000@forte-wellbeing.com
SUMMARY:Forte - Lifestyle Program Group Session
DESCRIPTION:Forte’s Lifestyle Program brings members together for engaging group sessions focused on strengthening healthy habits. Each interactive meetup is a chance to connect\, share\, and explore new strategies for lasting wellness! A fresh topic is covered each week\, and you’re welcome to join any group session to learn\, grow\, and be part of the conversation. \nBefore each session\, a reminder email with a Zoom link will be sent. For assistance\, call (602) 529-5495.
URL:https://forte-wellbeing.com/activities/forte-lifestyle-program-group-session-2/2026-11-23/
LOCATION:Virtual
ORGANIZER;CN="Forte - Well Being":MAILTO:info@forte-wellbeing.com
END:VEVENT
BEGIN:VEVENT
DTSTART;TZID=America/Phoenix:20261125T163000
DTEND;TZID=America/Phoenix:20261125T173000
DTSTAMP:20260425T041548
CREATED:20250324T232620Z
LAST-MODIFIED:20250403T213020Z
UID:10001620-1795624200-1795627800@forte-wellbeing.com
SUMMARY:Forte - Lifestyle Program Group Session
DESCRIPTION:Forte’s Lifestyle Program brings members together for engaging group sessions focused on strengthening healthy habits. Each interactive meetup is a chance to connect\, share\, and explore new strategies for lasting wellness! A fresh topic is covered each week\, and you’re welcome to join any group session to learn\, grow\, and be part of the conversation. \nBefore each session\, a reminder email with a Zoom link will be sent. For assistance\, call (602) 529-5495.
URL:https://forte-wellbeing.com/activities/forte-lifestyle-program-2/2026-11-25/
LOCATION:Virtual
CATEGORIES:Lifestyle Program Group
ORGANIZER;CN="Forte - Well Being":MAILTO:info@forte-wellbeing.com
END:VEVENT
BEGIN:VEVENT
DTSTART;TZID=America/Phoenix:20261126T080000
DTEND;TZID=America/Phoenix:20261126T083000
DTSTAMP:20260425T041548
CREATED:20250403T214721Z
LAST-MODIFIED:20250403T214721Z
UID:10001882-1795680000-1795681800@forte-wellbeing.com
SUMMARY:Forte - Lifestyle Program Group Session
DESCRIPTION:Forte’s Lifestyle Program brings members together for engaging group sessions focused on strengthening healthy habits. Each interactive meetup is a chance to connect\, share\, and explore new strategies for lasting wellness! A fresh topic is covered each week\, and you’re welcome to join any group session to learn\, grow\, and be part of the conversation. \nBefore each session\, a reminder email with a Zoom link will be sent. For assistance\, call (602) 529-5495.
URL:https://forte-wellbeing.com/activities/forte-lifestyle-program-group-session/2026-11-26/
LOCATION:Virtual
ORGANIZER;CN="Forte - Well Being":MAILTO:info@forte-wellbeing.com
END:VEVENT
BEGIN:VEVENT
DTSTART;TZID=America/Phoenix:20261127T090000
DTEND;TZID=America/Phoenix:20261127T093000
DTSTAMP:20260425T041548
CREATED:20250501T170539Z
LAST-MODIFIED:20250501T170540Z
UID:10002400-1795770000-1795771800@forte-wellbeing.com
SUMMARY:Forte Program Member Movement Class
DESCRIPTION:For members of our lifestyle program\, Jodi leads a weekly exercise class and routine.  Reach out to us to learn more.
URL:https://forte-wellbeing.com/activities/forte-program-member-movement-class-2/2026-11-27/
LOCATION:Virtual
CATEGORIES:Movement Classes
ATTACH;FMTTYPE=image/jpeg:https://forte-wellbeing.com/wp-content/uploads/2021/04/2-older-women-in-studio52553797-1-300x200-1.jpg
ORGANIZER;CN="Forte - Well Being":MAILTO:info@forte-wellbeing.com
END:VEVENT
BEGIN:VEVENT
DTSTART;TZID=America/Phoenix:20261130T120000
DTEND;TZID=America/Phoenix:20261130T123000
DTSTAMP:20260425T041548
CREATED:20250403T215149Z
LAST-MODIFIED:20250403T215149Z
UID:10002143-1796040000-1796041800@forte-wellbeing.com
SUMMARY:Forte - Lifestyle Program Group Session
DESCRIPTION:Forte’s Lifestyle Program brings members together for engaging group sessions focused on strengthening healthy habits. Each interactive meetup is a chance to connect\, share\, and explore new strategies for lasting wellness! A fresh topic is covered each week\, and you’re welcome to join any group session to learn\, grow\, and be part of the conversation. \nBefore each session\, a reminder email with a Zoom link will be sent. For assistance\, call (602) 529-5495.
URL:https://forte-wellbeing.com/activities/forte-lifestyle-program-group-session-2/2026-11-30/
LOCATION:Virtual
ORGANIZER;CN="Forte - Well Being":MAILTO:info@forte-wellbeing.com
END:VEVENT
BEGIN:VEVENT
DTSTART;TZID=America/Phoenix:20261202T163000
DTEND;TZID=America/Phoenix:20261202T173000
DTSTAMP:20260425T041548
CREATED:20250324T232620Z
LAST-MODIFIED:20250403T213020Z
UID:10001621-1796229000-1796232600@forte-wellbeing.com
SUMMARY:Forte - Lifestyle Program Group Session
DESCRIPTION:Forte’s Lifestyle Program brings members together for engaging group sessions focused on strengthening healthy habits. Each interactive meetup is a chance to connect\, share\, and explore new strategies for lasting wellness! A fresh topic is covered each week\, and you’re welcome to join any group session to learn\, grow\, and be part of the conversation. \nBefore each session\, a reminder email with a Zoom link will be sent. For assistance\, call (602) 529-5495.
URL:https://forte-wellbeing.com/activities/forte-lifestyle-program-2/2026-12-02/
LOCATION:Virtual
CATEGORIES:Lifestyle Program Group
ORGANIZER;CN="Forte - Well Being":MAILTO:info@forte-wellbeing.com
END:VEVENT
BEGIN:VEVENT
DTSTART;TZID=America/Phoenix:20261203T080000
DTEND;TZID=America/Phoenix:20261203T083000
DTSTAMP:20260425T041548
CREATED:20250403T214721Z
LAST-MODIFIED:20250403T214721Z
UID:10001883-1796284800-1796286600@forte-wellbeing.com
SUMMARY:Forte - Lifestyle Program Group Session
DESCRIPTION:Forte’s Lifestyle Program brings members together for engaging group sessions focused on strengthening healthy habits. Each interactive meetup is a chance to connect\, share\, and explore new strategies for lasting wellness! A fresh topic is covered each week\, and you’re welcome to join any group session to learn\, grow\, and be part of the conversation. \nBefore each session\, a reminder email with a Zoom link will be sent. For assistance\, call (602) 529-5495.
URL:https://forte-wellbeing.com/activities/forte-lifestyle-program-group-session/2026-12-03/
LOCATION:Virtual
ORGANIZER;CN="Forte - Well Being":MAILTO:info@forte-wellbeing.com
END:VEVENT
BEGIN:VEVENT
DTSTART;TZID=America/Phoenix:20261204T090000
DTEND;TZID=America/Phoenix:20261204T093000
DTSTAMP:20260425T041548
CREATED:20250501T170539Z
LAST-MODIFIED:20250501T170540Z
UID:10002401-1796374800-1796376600@forte-wellbeing.com
SUMMARY:Forte Program Member Movement Class
DESCRIPTION:For members of our lifestyle program\, Jodi leads a weekly exercise class and routine.  Reach out to us to learn more.
URL:https://forte-wellbeing.com/activities/forte-program-member-movement-class-2/2026-12-04/
LOCATION:Virtual
CATEGORIES:Movement Classes
ATTACH;FMTTYPE=image/jpeg:https://forte-wellbeing.com/wp-content/uploads/2021/04/2-older-women-in-studio52553797-1-300x200-1.jpg
ORGANIZER;CN="Forte - Well Being":MAILTO:info@forte-wellbeing.com
END:VEVENT
BEGIN:VEVENT
DTSTART;TZID=America/Phoenix:20261207T120000
DTEND;TZID=America/Phoenix:20261207T123000
DTSTAMP:20260425T041548
CREATED:20250403T215149Z
LAST-MODIFIED:20250403T215149Z
UID:10002144-1796644800-1796646600@forte-wellbeing.com
SUMMARY:Forte - Lifestyle Program Group Session
DESCRIPTION:Forte’s Lifestyle Program brings members together for engaging group sessions focused on strengthening healthy habits. Each interactive meetup is a chance to connect\, share\, and explore new strategies for lasting wellness! A fresh topic is covered each week\, and you’re welcome to join any group session to learn\, grow\, and be part of the conversation. \nBefore each session\, a reminder email with a Zoom link will be sent. For assistance\, call (602) 529-5495.
URL:https://forte-wellbeing.com/activities/forte-lifestyle-program-group-session-2/2026-12-07/
LOCATION:Virtual
ORGANIZER;CN="Forte - Well Being":MAILTO:info@forte-wellbeing.com
END:VEVENT
BEGIN:VEVENT
DTSTART;TZID=America/Phoenix:20261209T163000
DTEND;TZID=America/Phoenix:20261209T173000
DTSTAMP:20260425T041548
CREATED:20250324T232620Z
LAST-MODIFIED:20250403T213020Z
UID:10001622-1796833800-1796837400@forte-wellbeing.com
SUMMARY:Forte - Lifestyle Program Group Session
DESCRIPTION:Forte’s Lifestyle Program brings members together for engaging group sessions focused on strengthening healthy habits. Each interactive meetup is a chance to connect\, share\, and explore new strategies for lasting wellness! A fresh topic is covered each week\, and you’re welcome to join any group session to learn\, grow\, and be part of the conversation. \nBefore each session\, a reminder email with a Zoom link will be sent. For assistance\, call (602) 529-5495.
URL:https://forte-wellbeing.com/activities/forte-lifestyle-program-2/2026-12-09/
LOCATION:Virtual
CATEGORIES:Lifestyle Program Group
ORGANIZER;CN="Forte - Well Being":MAILTO:info@forte-wellbeing.com
END:VEVENT
BEGIN:VEVENT
DTSTART;TZID=America/Phoenix:20261210T080000
DTEND;TZID=America/Phoenix:20261210T083000
DTSTAMP:20260425T041548
CREATED:20250403T214721Z
LAST-MODIFIED:20250403T214721Z
UID:10001884-1796889600-1796891400@forte-wellbeing.com
SUMMARY:Forte - Lifestyle Program Group Session
DESCRIPTION:Forte’s Lifestyle Program brings members together for engaging group sessions focused on strengthening healthy habits. Each interactive meetup is a chance to connect\, share\, and explore new strategies for lasting wellness! A fresh topic is covered each week\, and you’re welcome to join any group session to learn\, grow\, and be part of the conversation. \nBefore each session\, a reminder email with a Zoom link will be sent. For assistance\, call (602) 529-5495.
URL:https://forte-wellbeing.com/activities/forte-lifestyle-program-group-session/2026-12-10/
LOCATION:Virtual
ORGANIZER;CN="Forte - Well Being":MAILTO:info@forte-wellbeing.com
END:VEVENT
BEGIN:VEVENT
DTSTART;TZID=America/Phoenix:20261211T090000
DTEND;TZID=America/Phoenix:20261211T093000
DTSTAMP:20260425T041548
CREATED:20250501T170539Z
LAST-MODIFIED:20250501T170540Z
UID:10002402-1796979600-1796981400@forte-wellbeing.com
SUMMARY:Forte Program Member Movement Class
DESCRIPTION:For members of our lifestyle program\, Jodi leads a weekly exercise class and routine.  Reach out to us to learn more.
URL:https://forte-wellbeing.com/activities/forte-program-member-movement-class-2/2026-12-11/
LOCATION:Virtual
CATEGORIES:Movement Classes
ATTACH;FMTTYPE=image/jpeg:https://forte-wellbeing.com/wp-content/uploads/2021/04/2-older-women-in-studio52553797-1-300x200-1.jpg
ORGANIZER;CN="Forte - Well Being":MAILTO:info@forte-wellbeing.com
END:VEVENT
BEGIN:VEVENT
DTSTART;TZID=America/Phoenix:20261214T120000
DTEND;TZID=America/Phoenix:20261214T123000
DTSTAMP:20260425T041548
CREATED:20250403T215149Z
LAST-MODIFIED:20250403T215149Z
UID:10002145-1797249600-1797251400@forte-wellbeing.com
SUMMARY:Forte - Lifestyle Program Group Session
DESCRIPTION:Forte’s Lifestyle Program brings members together for engaging group sessions focused on strengthening healthy habits. Each interactive meetup is a chance to connect\, share\, and explore new strategies for lasting wellness! A fresh topic is covered each week\, and you’re welcome to join any group session to learn\, grow\, and be part of the conversation. \nBefore each session\, a reminder email with a Zoom link will be sent. For assistance\, call (602) 529-5495.
URL:https://forte-wellbeing.com/activities/forte-lifestyle-program-group-session-2/2026-12-14/
LOCATION:Virtual
ORGANIZER;CN="Forte - Well Being":MAILTO:info@forte-wellbeing.com
END:VEVENT
BEGIN:VEVENT
DTSTART;TZID=America/Phoenix:20261216T163000
DTEND;TZID=America/Phoenix:20261216T173000
DTSTAMP:20260425T041548
CREATED:20250324T232620Z
LAST-MODIFIED:20250403T213020Z
UID:10001623-1797438600-1797442200@forte-wellbeing.com
SUMMARY:Forte - Lifestyle Program Group Session
DESCRIPTION:Forte’s Lifestyle Program brings members together for engaging group sessions focused on strengthening healthy habits. Each interactive meetup is a chance to connect\, share\, and explore new strategies for lasting wellness! A fresh topic is covered each week\, and you’re welcome to join any group session to learn\, grow\, and be part of the conversation. \nBefore each session\, a reminder email with a Zoom link will be sent. For assistance\, call (602) 529-5495.
URL:https://forte-wellbeing.com/activities/forte-lifestyle-program-2/2026-12-16/
LOCATION:Virtual
CATEGORIES:Lifestyle Program Group
ORGANIZER;CN="Forte - Well Being":MAILTO:info@forte-wellbeing.com
END:VEVENT
BEGIN:VEVENT
DTSTART;TZID=America/Phoenix:20261217T080000
DTEND;TZID=America/Phoenix:20261217T083000
DTSTAMP:20260425T041548
CREATED:20250403T214721Z
LAST-MODIFIED:20250403T214721Z
UID:10001885-1797494400-1797496200@forte-wellbeing.com
SUMMARY:Forte - Lifestyle Program Group Session
DESCRIPTION:Forte’s Lifestyle Program brings members together for engaging group sessions focused on strengthening healthy habits. Each interactive meetup is a chance to connect\, share\, and explore new strategies for lasting wellness! A fresh topic is covered each week\, and you’re welcome to join any group session to learn\, grow\, and be part of the conversation. \nBefore each session\, a reminder email with a Zoom link will be sent. For assistance\, call (602) 529-5495.
URL:https://forte-wellbeing.com/activities/forte-lifestyle-program-group-session/2026-12-17/
LOCATION:Virtual
ORGANIZER;CN="Forte - Well Being":MAILTO:info@forte-wellbeing.com
END:VEVENT
BEGIN:VEVENT
DTSTART;TZID=America/Phoenix:20261218T090000
DTEND;TZID=America/Phoenix:20261218T093000
DTSTAMP:20260425T041548
CREATED:20250501T170539Z
LAST-MODIFIED:20250501T170540Z
UID:10002403-1797584400-1797586200@forte-wellbeing.com
SUMMARY:Forte Program Member Movement Class
DESCRIPTION:For members of our lifestyle program\, Jodi leads a weekly exercise class and routine.  Reach out to us to learn more.
URL:https://forte-wellbeing.com/activities/forte-program-member-movement-class-2/2026-12-18/
LOCATION:Virtual
CATEGORIES:Movement Classes
ATTACH;FMTTYPE=image/jpeg:https://forte-wellbeing.com/wp-content/uploads/2021/04/2-older-women-in-studio52553797-1-300x200-1.jpg
ORGANIZER;CN="Forte - Well Being":MAILTO:info@forte-wellbeing.com
END:VEVENT
END:VCALENDAR